Workbook
Name Типичные_операции: Бух.операции!$A$2:$A$29

Sheet Бух.операции
A1: Типичные операции
A3: Поступили членские взносы от нанимателя
A4: Поступили по кол.договорам
A5: Начислены % банка
A6: Получено по чеку №
A7: Выдано по расходно-кассовому ордеру №
A8: Плата за межбанковские переводы
A9: Плата за выдачу нал.ден.средств
A10: Плата за выдачу чековой книжки
A11: Акт на списание КО-2
A12: Материальная помощь
A13: Закрытие месяца
... A15: туристический слет

Sheet Титульный
A9: Журнал-главная
A11: Профсоюзная организация ___________________________________________
A13: на 2021 год

Sheet январь
B1: за | C1: январь | D1: 2021 года
A3: № п/п | B3: Число, месяц | C3: Краткое содержание операции или номер документа | D3: Сумма | E3: Счет 01 | G3: Счет 02 | I3: Счет 10 | K3: Счет 50 | M3: Счет 51 | O3: Счет 55 | Q3: Счет 60 | S3: Счет 68 | U3: Счет 71 | W3: Счет 76 | Y3: Счет 79 | AA3: Счет 86/01 | AC3: Расшифровка счета 86/01 | AF3: счет 86/01 Расшифровка счета | AJ3: Счет 26/01 | AL3: Расшифровка счета 26/01 | AW3: Счет 86/02 | AY3: Счет 26/02 | BA3: Расшифровка счета 26/02 | BE3: Контрольные суммы | BG3: Забалансовый счет 006
E4: Основные средства | G4: Амортизация осн.средств | I4: Материалы | K4: Касса | M4: Текущий расчетный счет | O4: Специальные счета в банках (депозитный) | Q4: Расчеты с поставщиками и подрядчиками | S4: Расчеты по налогам и сборам | U4: Расчеты с подотчетными лицами | W4: Расчеты с разными дебиторами и кредиторами | Y4: Внутрихозяйственные расчеты | AA4: Общехозяйственные доходы | AC4: Отчисления от членских профвзносов | AD4: % банка | AE4: % банка по депозиту | AF4: фонд помощи | AH4: другие статьи не включенные в фонд | AJ4: Общехозяйственные расходы | AL4: Материальная помощь членам профсоюза | AM4: Детское оздоровление | AN4: Благотворительная помощь | AO4: Обучение профсоюзного актива | AP4: Туристическо-экскурсионная деятельность, в т.ч. Услуги ТЭУП "Беларустурист" | AQ4: Культурно-массовая работа | AR4: Спортивная и культурно-массовая работа | AS4: Информационная работа, в т.ч.подписка на "Беларускi час" | AT4: Вознаграждение профсоюзному активу за выполнение общественной нагрузки | AU4: Расходы на целевые мероприятия (в районе, городе, области) | AV4: Прочие расходы, в т.ч.комиссионное вознаграждение банку | AW4: Общехозяйственные доходы (Целевые поступления по коллективным договорам) | AY4: Общехозяйственные расходы | BA4: Туристическо-экскурсионная деятельность, в т.ч. Услуги ТЭУП "Беларустурист" | BB4: матпомощь (страховка) | BC4: Культурно-массовая работа | BD4: Спортивная работа
E6: дебет | F6: кредит | G6: дебет | H6: кредит | I6: дебет | J6: кредит | K6: дебет | L6: кредит | M6: дебет | N6: кредит | O6: дебет | P6: кредит | Q6: дебет | R6: кредит | S6: дебет | T6: кредит | U6: дебет | V6: кредит | W6: дебет | X6: кредит | Y6: дебет | Z6: кредит | AA6: дебет | AB6: кредит | AF6: дебет | AG6: кредит | AH6: дебет | AI6: кредит | AJ6: дебет | AK6: кредит | AL6: фонд помощи | AO6: другие статьи не включенные в фонд | AW6: дебет | AX6: кредит | AY6: дебет | AZ6: кредит | BE6: дебет | BF6: кредит | BG6: кол-во | BH6: сумма
C7: Сальдо на 01.01.2021г. | D7: 1704.73 | M7: 1704.73 | N7: 0 | O7: 0 | P7: 0 | Q7: 0 | R7: 0 | S7: 0 | T7: 0 | U7: 0 | V7: 0 | W7: 0 | X7: 0 | Y7: 0 | Z7: 0 | AB7: 1704.73 | AG7: 0 | AH7: 0 | AI7: 0 | AJ7: 0 | AK7: 0 | AL7: 0 | AM7: 0 | AN7: 0 | AO7: 0 | AP7: 0 | AQ7: 0 | AR7: 0 | AS7: 0 | AT7: 0 | AU7: 0 | AV7: 0 | AW7: 0 | AY7: 0 | AZ7: 0 | BA7: 0 | BC7: 0 | BD7: 0 | BE7: =SUM(E7,G7,I7,K7,M7,O7,Q7,S7,U7,W7,Y7,AA7,AJ7,AW7,AY7) -> 1704.73 | BF7: =SUM(F7,H7,J7,L7,N7,P7,R7,T7,V7,X7,Z7,AB7,AK7,AX7,AZ7) -> 1704.73 | BG7: 0 | BH7: 0
A8: 1 | B8: 44202 | C8: Поступили членские взносы от нанимателя | D8: 323.18 | M8: 323.18 | AA8: =SUM(AF8,,AH8) -> 0 | AB8: =SUM(AC8:AE8) -> 323.18 | AC8: 323.18 | AG8: =AC8*$AF$5 -> 0 | AI8: =AC8*$AH$5 -> 0 | AJ8: =SUM(AL8:AV8) -> 0 | AY8: =SUM(BA8:BD8) -> 0 | BE8: =SUM(E8,G8,I8,K8,M8,O8,Q8,S8,U8,W8,Y8,AA8,AJ8,AW8,AY8) -> 323.18 | BF8: =SUM(F8,H8,J8,L8,N8,P8,R8,T8,V8,X8,Z8,AB8,AK8,AX8,AZ8) -> 323.18
A9: 2 | B9: 44208 | C9: Начислены % банка | D9: 11.7 | N9: 11.7 | AA9: =SUM(AF9,,AH9) -> 0 | AB9: =SUM(AC9:AE9) -> 0 | AG9: =AC9*$AF$5 -> 0 | AI9: =AC9*$AH$5 -> 0 | AJ9: =SUM(AL9:AV9) -> 11.7 | AV9: 11.7 | AY9: =SUM(BA9:BD9) -> 0 | BE9: =SUM(E9,G9,I9,K9,M9,O9,Q9,S9,U9,W9,Y9,AA9,AJ9,AW9,AY9) -> 11.7 | BF9: =SUM(F9,H9,J9,L9,N9,P9,R9,T9,V9,X9,Z9,AB9,AK9,AX9,AZ9) -> 11.7
A10: 3 | B10: 44214 | C10: Денежное вознаграждение к Благодарности Ломако Л.В. | D10: 50 | M10: 50 | Z10: 50 | AA10: =SUM(AF10,,AH10) -> 0 | AB10: =SUM(AC10:AE10) -> 0 | AG10: =AC10*$AF$5 -> 0 | AI10: =AC10*$AH$5 -> 0 | AJ10: =SUM(AL10:AV10) -> 0 | AY10: =SUM(BA10:BD10) -> 0 | BE10: =SUM(E10,G10,I10,K10,M10,O10,Q10,S10,U10,W10,Y10,AA10,AJ10,AW10,AY10) -> 50 | BF10: =SUM(F10,H10,J10,L10,N10,P10,R10,T10,V10,X10,Z10,AB10,AK10,AX10,AZ10) -> 50
A11: 4 | B11: 44225 | C11: Начислены % банка | D11: 0.83 | M11: 0.83 | AA11: =SUM(AF11,,AH11) -> 0 | AB11: =SUM(AC11:AE11) -> 0.83 | AD11: 0.83 | AG11: =AC11*$AF$5 -> 0 | AI11: =AC11*$AH$5 -> 0 | AJ11: =SUM(AL11:AV11) -> 0 | AY11: =SUM(BA11:BD11) -> 0 | BE11: =SUM(E11,G11,I11,K11,M11,O11,Q11,S11,U11,W11,Y11,AA11,AJ11,AW11,AY11) -> 0.83 | BF11: =SUM(F11,H11,J11,L11,N11,P11,R11,T11,V11,X11,Z11,AB11,AK11,AX11,AZ11) -> 0.83
A12: 5 | B12: 44227 | C12: Закрытие месяца | D12: 11.7 | AA12: =SUM(AF12,,AH12) -> 11.7 | AB12: =SUM(AC12:AE12) -> 0 | AG12: =AC12*$AF$5 -> 0 | AH12: 11.7 | AI12: =AC12*$AH$5 -> 0 | AJ12: =SUM(AL12:AV12) -> 0 | AK12: 11.7 | AY12: =SUM(BA12:BD12) -> 0 | BE12: =SUM(E12,G12,I12,K12,M12,O12,Q12,S12,U12,W12,Y12,AA12,AJ12,AW12,AY12) -> 11.7 | BF12: =SUM(F12,H12,J12,L12,N12,P12,R12,T12,V12,X12,Z12,AB12,AK12,AX12,AZ12) -> 11.7
A13: 6 | AA13: =SUM(AF13,,AH13) -> 0 | AB13: =SUM(AC13:AE13) -> 0 | AG13: =AC13*$AF$5 -> 0 | AI13: =AC13*$AH$5 -> 0 | AJ13: =SUM(AL13:AV13) -> 0 | AY13: =SUM(BA13:BD13) -> 0 | BE13: =SUM(E13,G13,I13,K13,M13,O13,Q13,S13,U13,W13,Y13,AA13,AJ13,AW13,AY13) -> 0 | BF13: =SUM(F13,H13,J13,L13,N13,P13,R13,T13,V13,X13,Z13,AB13,AK13,AX13,AZ13) -> 0
A14: 7 | AA14: =SUM(AF14,,AH14) -> 0 | AB14: =SUM(AC14:AE14) -> 0 | AG14: =AC14*$AF$5 -> 0 | AI14: =AC14*$AH$5 -> 0 | AJ14: =SUM(AL14:AV14) -> 0 | AY14: =SUM(BA14:BD14) -> 0 | BE14: =SUM(E14,G14,I14,K14,M14,O14,Q14,S14,U14,W14,Y14,AA14,AJ14,AW14,AY14) -> 0 | BF14: =SUM(F14,H14,J14,L14,N14,P14,R14,T14,V14,X14,Z14,AB14,AK14,AX14,AZ14) -> 0
A15: 8 | AA15: =SUM(AF15,,AH15) -> 0 | AB15: =SUM(AC15:AE15) -> 0 | AG15: =AC15*$AF$5 -> 0 | AI15: =AC15*$AH$5 -> 0 | AJ15: =SUM(AL15:AV15) -> 0 | AY15: =SUM(BA15:BD15) -> 0 | BE15: =SUM(E15,G15,I15,K15,M15,O15,Q15,S15,U15,W15,Y15,AA15,AJ15,AW15,AY15) -> 0 | BF15: =SUM(F15,H15,J15,L15,N15,P15,R15,T15,V15,X15,Z15,AB15,AK15,AX15,AZ15) -> 0
A16: 9 | AA16: =SUM(AF16,,AH16) -> 0 | AB16: =SUM(AC16:AE16) -> 0 | AG16: =AC16*$AF$5 -> 0 | AI16: =AC16*$AH$5 -> 0 | AJ16: =SUM(AL16:AV16) -> 0 | AY16: =SUM(BA16:BD16) -> 0 | BE16: =SUM(E16,G16,I16,K16,M16,O16,Q16,S16,U16,W16,Y16,AA16,AJ16,AW16,AY16) -> 0 | BF16: =SUM(F16,H16,J16,L16,N16,P16,R16,T16,V16,X16,Z16,AB16,AK16,AX16,AZ16) -> 0
A17: 10 | AA17: =SUM(AF17,,AH17) -> 0 | AB17: =SUM(AC17:AE17) -> 0 | AG17: =AC17*$AF$5 -> 0 | AI17: =AC17*$AH$5 -> 0 | AJ17: =SUM(AL17:AV17) -> 0 | AY17: =SUM(BA17:BD17) -> 0 | BE17: =SUM(E17,G17,I17,K17,M17,O17,Q17,S17,U17,W17,Y17,AA17,AJ17,AW17,AY17) -> 0 | BF17: =SUM(F17,H17,J17,L17,N17,P17,R17,T17,V17,X17,Z17,AB17,AK17,AX17,AZ17) -> 0
A18: 11 | AA18: =SUM(AF18,,AH18) -> 0 | AB18: =SUM(AC18:AE18) -> 0 | AG18: =AC18*$AF$5 -> 0 | AI18: =AC18*$AH$5 -> 0 | AJ18: =SUM(AL18:AV18) -> 0 | AY18: =SUM(BA18:BD18) -> 0 | BE18: =SUM(E18,G18,I18,K18,M18,O18,Q18,S18,U18,W18,Y18,AA18,AJ18,AW18,AY18) -> 0 | BF18: =SUM(F18,H18,J18,L18,N18,P18,R18,T18,V18,X18,Z18,AB18,AK18,AX18,AZ18) -> 0
A19: 12 | AA19: =SUM(AF19,,AH19) -> 0 | AB19: =SUM(AC19:AE19) -> 0 | AG19: =AC19*$AF$5 -> 0 | AI19: =AC19*$AH$5 -> 0 | AJ19: =SUM(AL19:AV19) -> 0 | AY19: =SUM(BA19:BD19) -> 0 | BE19: =SUM(E19,G19,I19,K19,M19,O19,Q19,S19,U19,W19,Y19,AA19,AJ19,AW19,AY19) -> 0 | BF19: =SUM(F19,H19,J19,L19,N19,P19,R19,T19,V19,X19,Z19,AB19,AK19,AX19,AZ19) -> 0
A20: 13 | AA20: =SUM(AF20,,AH20) -> 0 | AB20: =SUM(AC20:AE20) -> 0 | AG20: =AC20*$AF$5 -> 0 | AI20: =AC20*$AH$5 -> 0 | AJ20: =SUM(AL20:AV20) -> 0 | AY20: =SUM(BA20:BD20) -> 0 | BE20: =SUM(E20,G20,I20,K20,M20,O20,Q20,S20,U20,W20,Y20,AA20,AJ20,AW20,AY20) -> 0 | BF20: =SUM(F20,H20,J20,L20,N20,P20,R20,T20,V20,X20,Z20,AB20,AK20,AX20,AZ20) -> 0
A21: 14 | AA21: =SUM(AF21,,AH21) -> 0 | AB21: =SUM(AC21:AE21) -> 0 | AG21: =AC21*$AF$5 -> 0 | AI21: =AC21*$AH$5 -> 0 | AJ21: =SUM(AL21:AV21) -> 0 | AY21: =SUM(BA21:BD21) -> 0 | BE21: =SUM(E21,G21,I21,K21,M21,O21,Q21,S21,U21,W21,Y21,AA21,AJ21,AW21,AY21) -> 0 | BF21: =SUM(F21,H21,J21,L21,N21,P21,R21,T21,V21,X21,Z21,AB21,AK21,AX21,AZ21) -> 0
C22: Обороты | D22: =SUM(D8:D21) -> 397.41 | E22: =SUM(E8:E21) -> 0 | F22: =SUM(F8:F21) -> 0 | G22: =SUM(G8:G21) -> 0 | H22: =SUM(H8:H21) -> 0 | I22: =SUM(I8:I21) -> 0 | J22: =SUM(J8:J21) -> 0 | K22: =SUM(K8:K21) -> 0 | ... BH22: =SUM(BH8:BH21) -> 0
C23: Сальдо на 01.02.2021г. | E23: =IF((SUM(E$7,E$22)-(SUM(F$7,F$22))<0),0)+IF((SUM(E$7,E$22)-(SUM(F$7,F$22))>0),(SUM(E$7,E$22)-(SUM(F$7,F$22)))) -> 0 | F23: =IF((SUM(F$7,F$22)-(SUM(E$7,E$22))<0),0)+IF((SUM(F$7,F$22)-(SUM(E$7,E$22))>0),(SUM(F$7,F$22)-(SUM(E$7,E$22)))) -> 0 | G23: =IF((SUM(G$7,G$22)-(SUM(H$7,H$22))<0),0)+IF((SUM(G$7,G$22)-(SUM(H$7,H$22))>0),(SUM(G$7,G$22)-(SUM(H$7,H$22)))) -> 0 | H23: =IF((SUM(H$7,H$22)-(SUM(G$7,G$22))<0),0)+IF((SUM(H$7,H$22)-(SUM(G$7,G$22))>0),(SUM(H$7,H$22)-(SUM(G$7,G$22)))) -> 0 | I23: =IF((SUM(I$7,I$22)-(SUM(J$7,J$22))<0),0)+IF((SUM(I$7,I$22)-(SUM(J$7,J$22))>0),(SUM(I$7,I$22)-(SUM(J$7,J$22)))) -> 0 | J23: =IF((SUM(J$7,J$22)-(SUM(I$7,I$22))<0),0)+IF((SUM(J$7,J$22)-(SUM(I$7,I$22))>0),(SUM(J$7,J$22)-(SUM(I$7,I$22)))) -> 0 | K23: =IF((SUM(K$7,K$22)-(SUM(L$7,L$22))<0),0)+IF((SUM(K$7,K$22)-(SUM(L$7,L$22))>0),(SUM(K$7,K$22)-(SUM(L$7,L$22)))) -> 0 | L23: =IF((SUM(L$7,L$22)-(SUM(K$7,K$22))<0),0)+IF((SUM(L$7,L$22)-(SUM(K$7,K$22))>0),(SUM(L$7,L$22)-(SUM(K$7,K$22)))) -> 0 | M23: =IF((SUM(M$7,M$22)-(SUM(N$7,N$22))<0),0)+IF((SUM(M$7,M$22)-(SUM(N$7,N$22))>0),(SUM(M$7,M$22)-(SUM(N$7,N$22)))) -> 2067.04 | N23: =IF((SUM(N$7,N$22)-(SUM(M$7,M$22))<0),0)+IF((SUM(N$7,N$22)-(SUM(M$7,M$22))>0),(SUM(N$7,N$22)-(SUM(M$7,M$22)))) -> 0 | O23: =IF((SUM(O$7,O$22)-(SUM(P$7,P$22))<0),0)+IF((SUM(O$7,O$22)-(SUM(P$7,P$22))>0),(SUM(O$7,O$22)-(SUM(P$7,P$22)))) -> 0 | P23: =IF((SUM(P$7,P$22)-(SUM(O$7,O$22))<0),0)+IF((SUM(P$7,P$22)-(SUM(O$7,O$22))>0),(SUM(P$7,P$22)-(SUM(O$7,O$22)))) -> 0 | Q23: =IF((SUM(Q$7,Q$22)-(SUM(R$7,R$22))<0),0)+IF((SUM(Q$7,Q$22)-(SUM(R$7,R$22))>0),(SUM(Q$7,Q$22)-(SUM(R$7,R$22)))) -> 0 | R23: =IF((SUM(R$7,R$22)-(SUM(Q$7,Q$22))<0),0)+IF((SUM(R$7,R$22)-(SUM(Q$7,Q$22))>0),(SUM(R$7,R$22)-(SUM(Q$7,Q$22)))) -> 0 | S23: =IF((SUM(S$7,S$22)-(SUM(T$7,T$22))<0),0)+IF((SUM(S$7,S$22)-(SUM(T$7,T$22))>0),(SUM(S$7,S$22)-(SUM(T$7,T$22)))) -> 0 | T23: =IF((SUM(T$7,T$22)-(SUM(S$7,S$22))<0),0)+IF((SUM(T$7,T$22)-(SUM(S$7,S$22))>0),(SUM(T$7,T$22)-(SUM(S$7,S$22)))) -> 0 | U23: =IF((SUM(U$7,U$22)-(SUM(V$7,V$22))<0),0)+IF((SUM(U$7,U$22)-(SUM(V$7,V$22))>0),(SUM(U$7,U$22)-(SUM(V$7,V$22)))) -> 0 | V23: =IF((SUM(V$7,V$22)-(SUM(U$7,U$22))<0),0)+IF((SUM(V$7,V$22)-(SUM(U$7,U$22))>0),(SUM(V$7,V$22)-(SUM(U$7,U$22)))) -> 0 | W23: =IF((SUM(W$7,W$22)-(SUM(X$7,X$22))<0),0)+IF((SUM(W$7,W$22)-(SUM(X$7,X$22))>0),(SUM(W$7,W$22)-(SUM(X$7,X$22)))) -> 0 | X23: =IF((SUM(X$7,X$22)-(SUM(W$7,W$22))<0),0)+IF((SUM(X$7,X$22)-(SUM(W$7,W$22))>0),(SUM(X$7,X$22)-(SUM(W$7,W$22)))) -> 0 | Y23: =IF((SUM(Y$7,Y$22)-(SUM(Z$7,Z$22))<0),0)+IF((SUM(Y$7,Y$22)-(SUM(Z$7,Z$22))>0),(SUM(Y$7,Y$22)-(SUM(Z$7,Z$22)))) -> 0 | Z23: =IF((SUM(Z$7,Z$22)-(SUM(Y$7,Y$22))<0),0)+IF((SUM(Z$7,Z$22)-(SUM(Y$7,Y$22))>0),(SUM(Z$7,Z$22)-(SUM(Y$7,Y$22)))) -> 50 | AA23: =IF((SUM(AA$7,AA$22)-(SUM(AB$7,AB$22))<0),0)+IF((SUM(AA$7,AA$22)-(SUM(AB$7,AB$22))>0),(SUM(AA$7,AA$22)-(SUM(AB$7,AB$22)))) -> 0 | AB23: =IF((SUM(AB$7,AB$22)-(SUM(AA$7,AA$22))<0),0)+IF((SUM(AB$7,AB$22)-(SUM(AA$7,AA$22))>0),(SUM(AB$7,AB$22)-(SUM(AA$7,AA$22)))) -> 2017.04 | AC23: =AC7+AC22 -> 323.18 | AD23: =AD7+AD22 -> 0.83 | AE23: =AE7+AE22 -> 0 | AF23: =IF((SUM(AF$7,AF$22)-(SUM(AG$7,AG$22))<0),0)+IF((SUM(AF$7,AF$22)-(SUM(AG$7,AG$22))>0),(SUM(AF$7,AF$22)-(SUM(AG$7,AG$22)))) -> 0 | AG23: =IF((SUM(AG$7,AG$22)-(SUM(AF$7,AF$22))<0),0)+IF((SUM(AG$7,AG$22)-(SUM(AF$7,AF$22))>0),(SUM(AG$7,AG$22)-(SUM(AF$7,AF$22)))) -> 0 | AH23: =IF((SUM(AH$7,AH$22)-(SUM(AI$7,AI$22))<0),0)+IF((SUM(AH$7,AH$22)-(SUM(AI$7,AI$22))>0),(SUM(AH$7,AH$22)-(SUM(AI$7,AI$22)))) -> 11.7 | AI23: =IF((SUM(AI$7,AI$22)-(SUM(AH$7,AH$22))<0),0)+IF((SUM(AI$7,AI$22)-(SUM(AH$7,AH$22))>0),(SUM(AI$7,AI$22)-(SUM(AH$7,AH$22)))) -> 0 | AJ23: =IF((SUM(AJ$7,AJ$22)-(SUM(AK$7,AK$22))<0),0)+IF((SUM(AJ$7,AJ$22)-(SUM(AK$7,AK$22))>0),(SUM(AJ$7,AJ$22)-(SUM(AK$7,AK$22)))) -> 0 | AK23: =IF((SUM(AK$7,AK$22)-(SUM(AJ$7,AJ$22))<0),0)+IF((SUM(AK$7,AK$22)-(SUM(AJ$7,AJ$22))>0),(SUM(AK$7,AK$22)-(SUM(AJ$7,AJ$22)))) -> 0 | AL23: =AL7+AL22 -> 0 | AM23: =AM7+AM22 -> 0 | AN23: =AN7+AN22 -> 0 | AO23: =AO7+AO22 -> 0 | AP23: =AP7+AP22 -> 0 | AQ23: =AQ7+AQ22 -> 0 | AR23: =AR7+AR22 -> 0 | AS23: =AS7+AS22 -> 0 | ... AV23: =AV7+AV22 -> 11.7 | AW23: =IF((SUM(AW$7,AW$22)-(SUM(AX$7,AX$22))<0),0)+IF((SUM(AW$7,AW$22)-(SUM(AX$7,AX$22))>0),(SUM(AW$7,AW$22)-(SUM(AX$7,AX$22)))) -> 0 | AX23: =IF((SUM(AX$7,AX$22)-(SUM(AW$7,AW$22))<0),0)+IF((SUM(AX$7,AX$22)-(SUM(AW$7,AW$22))>0),(SUM(AX$7,AX$22)-(SUM(AW$7,AW$22)))) -> 0 | AY23: =IF((SUM(AY$7,AY$22)-(SUM(AZ$7,AZ$22))<0),0)+IF((SUM(AY$7,AY$22)-(SUM(AZ$7,AZ$22))>0),(SUM(AY$7,AY$22)-(SUM(AZ$7,AZ$22)))) -> 0 | AZ23: =IF((SUM(AZ$7,AZ$22)-(SUM(AY$7,AY$22))<0),0)+IF((SUM(AZ$7,AZ$22)-(SUM(AY$7,AY$22))>0),(SUM(AZ$7,AZ$22)-(SUM(AY$7,AY$22)))) -> 0 | BA23: =BA7+BA22 -> 0 | BB23: =BB7+BB22 -> 0 | BC23: =BC7+BC22 -> 0 | BD23: =BD7+BD22 -> 0 | BE23: =SUM(E23,G23,I23,K23,M23,O23,Q23,S23,U23,W23,Y23,AA23,AJ23,AW23,AY23) -> 2067.04 | BF23: =SUM(F23,H23,J23,L23,N23,P23,R23,T23,V23,X23,Z23,AB23,AK23,AX23,AZ23) -> 2067.04 | BG23: =BG7-BG22 -> 0 | BH23: =BH7-BH22 -> 0
BF25: =BF23-BE23 -> 0

Sheet февраль
B1: за | C1: февраль | D1: 2021 года
A3: № п/п | B3: Число, месяц | C3: Краткое содержание операции или номер документа | D3: Сумма | E3: Счет 01 | G3: Счет 02 | I3: Счет 10 | K3: Счет 50 | M3: Счет 51 | O3: Счет 55 | Q3: Счет 60 | S3: Счет 68 | U3: Счет 71 | W3: Счет 76 | Y3: Счет 79 | AA3: Счет 86/01 | AC3: Расшифровка счета 86/01 | AF3: счет 86/01 Расшифровка счета | AJ3: Счет 26/01 | AL3: Расшифровка счета 26/01 | AW3: Счет 86/02 | AY3: Счет 26/02 | BA3: Расшифровка счета 26/02 | BE3: Контрольные суммы | BG3: Забалансовый счет 006
E4: Основные средства | G4: Амортизация осн.средств | I4: Материалы | K4: Касса | M4: Текущий расчетный счет | O4: Специальные счета в банках (депозитный) | Q4: Расчеты с поставщиками и подрядчиками | S4: Расчеты по налогам и сборам | U4: Расчеты с подотчетными лицами | W4: Расчеты с разными дебиторами и кредиторами | Y4: Внутрихозяйственные расчеты | AA4: Общехозяйственные доходы | AC4: Отчисления от членских профвзносов | AD4: % банка | AE4: % банка по депозиту | AF4: фонд помощи | AH4: другие статьи не включенные в фонд | AJ4: Общехозяйственные расходы | AL4: Материальная помощь членам профсоюза | AM4: Детское оздоровление | AN4: Благотворительная помощь | AO4: Обучение профсоюзного актива | AP4: Туристическо-экскурсионная деятельность, в т.ч. Услуги ТЭУП "Беларустурист" | AQ4: Культурно-массовая работа | AR4: Спортивная и культурно-массовая работа | AS4: Информационная работа, в т.ч.подписка на "Беларускi час" | AT4: Вознаграждение профсоюзному активу за выполнение общественной нагрузки | AU4: Расходы на целевые мероприятия (в районе, городе, области) | AV4: Прочие расходы, в т.ч.комиссионное вознаграждение банку | AW4: Общехозяйственные доходы (Целевые поступления по коллективным договорам) | AY4: Общехозяйственные расходы | BA4: Туристическо-экскурсионная деятельность, в т.ч. Услуги ТЭУП "Беларустурист" | BB4: =январь!BB4 -> матпомощь (страховка) | BC4: Культурно-массовая работа | BD4: Спортивная работа
E6: дебет | F6: кредит | G6: дебет | H6: кредит | I6: дебет | J6: кредит | K6: дебет | L6: кредит | M6: дебет | N6: кредит | O6: дебет | P6: кредит | Q6: дебет | R6: кредит | S6: дебет | T6: кредит | U6: дебет | V6: кредит | W6: дебет | X6: кредит | Y6: дебет | Z6: кредит | AA6: дебет | AB6: кредит | AF6: дебет | AG6: кредит | AH6: дебет | AI6: кредит | AJ6: дебет | AK6: кредит | AL6: фонд помощи | AO6: другие статьи не включенные в фонд | AW6: дебет | AX6: кредит | AY6: дебет | AZ6: кредит | BE6: дебет | BF6: кредит | BG6: кол-во | BH6: сумма
C7: Сальдо на 01.02.2021г. | E7: =январь!E23 -> 0 | F7: =январь!F23 -> 0 | G7: =январь!G23 -> 0 | H7: =январь!H23 -> 0 | I7: =январь!I23 -> 0 | J7: =январь!J23 -> 0 | K7: =январь!K23 -> 0 | L7: =январь!L23 -> 0 | ... BH7: =январь!BH23 -> 0
A8: 1 | B8: 44228 | C8: Начислены % банка | D8: 11.7 | N8: 11.7 | AA8: =SUM(AF8,AH8) -> 0 | AB8: =SUM(AC8:AE8) -> 0 | AG8: =AC8*$AF$5 -> 0 | AI8: =AC8*$AH$5 -> 0 | AJ8: =SUM(AL8:AV8) -> 11.7 | AV8: 11.7 | AY8: =SUM(BA8:BD8) -> 0 | BE8: =SUM(E8,G8,I8,K8,M8,O8,Q8,S8,U8,W8,Y8,AA8,AJ8,AW8,AY8) -> 11.7 | BF8: =SUM(F8,H8,J8,L8,N8,P8,R8,T8,V8,X8,Z8,AB8,AK8,AX8,AZ8) -> 11.7
A9: 2 | B9: 44228 | C9: Денежное вознаграждение к Благодарности Ломако Л.В. | D9: 50 | N9: 50 | Y9: 50 | AA9: =SUM(AF9,AH9) -> 0 | AB9: =SUM(AC9:AE9) -> 0 | AG9: =AC9*$AF$5 -> 0 | AI9: =AC9*$AH$5 -> 0 | AJ9: =SUM(AL9:AV9) -> 0 | AY9: =SUM(BA9:BD9) -> 0 | BE9: =SUM(E9,G9,I9,K9,M9,O9,Q9,S9,U9,W9,Y9,AA9,AJ9,AW9,AY9) -> 50 | BF9: =SUM(F9,H9,J9,L9,N9,P9,R9,T9,V9,X9,Z9,AB9,AK9,AX9,AZ9) -> 50
A10: 3 | B10: 44228 | C10: Начислены % банка | D10: 0.01 | M10: 0.01 | AA10: =SUM(AF10,AH10) -> 0 | AB10: =SUM(AC10:AE10) -> 0.01 | AD10: 0.01 | AG10: =AC10*$AF$5 -> 0 | AI10: =AC10*$AH$5 -> 0 | AJ10: =SUM(AL10:AV10) -> 0 | AY10: =SUM(BA10:BD10) -> 0 | BE10: =SUM(E10,G10,I10,K10,M10,O10,Q10,S10,U10,W10,Y10,AA10,AJ10,AW10,AY10) -> 0.01 | BF10: =SUM(F10,H10,J10,L10,N10,P10,R10,T10,V10,X10,Z10,AB10,AK10,AX10,AZ10) -> 0.01
A11: 4 | B11: 44228 | C11: Поступили членские взносы от нанимателя | D11: 6.74 | M11: 6.74 | AA11: =SUM(AF11,AH11) -> 0 | AB11: =SUM(AC11:AE11) -> 6.74 | AC11: 6.74 | AG11: =AC11*$AF$5 -> 0 | AI11: =AC11*$AH$5 -> 0 | AJ11: =SUM(AL11:AV11) -> 0 | AY11: =SUM(BA11:BD11) -> 0 | BE11: =SUM(E11,G11,I11,K11,M11,O11,Q11,S11,U11,W11,Y11,AA11,AJ11,AW11,AY11) -> 6.74 | BF11: =SUM(F11,H11,J11,L11,N11,P11,R11,T11,V11,X11,Z11,AB11,AK11,AX11,AZ11) -> 6.74
A12: 5 | B12: 44229 | C12: Возврат денежного вознаграждения к Благодарности Ломако Л.В. | D12: 50 | M12: 50 | Z12: 50 | AA12: =SUM(AF12,AH12) -> 0 | AB12: =SUM(AC12:AE12) -> 0 | AG12: =AC12*$AF$5 -> 0 | AI12: =AC12*$AH$5 -> 0 | AJ12: =SUM(AL12:AV12) -> 0 | AY12: =SUM(BA12:BD12) -> 0 | BE12: =SUM(E12,G12,I12,K12,M12,O12,Q12,S12,U12,W12,Y12,AA12,AJ12,AW12,AY12) -> 50 | BF12: =SUM(F12,H12,J12,L12,N12,P12,R12,T12,V12,X12,Z12,AB12,AK12,AX12,AZ12) -> 50
A13: 6 | B13: 44231 | C13: Начислены % банка | D13: 1 | N13: 1 | AA13: =SUM(AF13,AH13) -> 0 | AB13: =SUM(AC13:AE13) -> 0 | AG13: =AC13*$AF$5 -> 0 | AI13: =AC13*$AH$5 -> 0 | AJ13: =SUM(AL13:AV13) -> 1 | AV13: 1 | AY13: =SUM(BA13:BD13) -> 0 | BE13: =SUM(E13,G13,I13,K13,M13,O13,Q13,S13,U13,W13,Y13,AA13,AJ13,AW13,AY13) -> 1 | BF13: =SUM(F13,H13,J13,L13,N13,P13,R13,T13,V13,X13,Z13,AB13,AK13,AX13,AZ13) -> 1
A14: 7 | B14: 44231 | C14: Денежное вознаграждение к Благодарности Ломако Л.В. | D14: 50 | N14: 50 | Y14: 50 | AA14: =SUM(AF14,AH14) -> 0 | AB14: =SUM(AC14:AE14) -> 0 | AG14: =AC14*$AF$5 -> 0 | AI14: =AC14*$AH$5 -> 0 | AJ14: =SUM(AL14:AV14) -> 0 | AY14: =SUM(BA14:BD14) -> 0 | BE14: =SUM(E14,G14,I14,K14,M14,O14,Q14,S14,U14,W14,Y14,AA14,AJ14,AW14,AY14) -> 50 | BF14: =SUM(F14,H14,J14,L14,N14,P14,R14,T14,V14,X14,Z14,AB14,AK14,AX14,AZ14) -> 50
A15: 8 | B15: 44238 | C15: Материальная помощь | D15: 150 | M15: 150 | Z15: 150 | AA15: =SUM(AF15,AH15) -> 0 | AB15: =SUM(AC15:AE15) -> 0 | AG15: =AC15*$AF$5 -> 0 | AI15: =AC15*$AH$5 -> 0 | AJ15: =SUM(AL15:AV15) -> 0 | AY15: =SUM(BA15:BD15) -> 0 | BE15: =SUM(E15,G15,I15,K15,M15,O15,Q15,S15,U15,W15,Y15,AA15,AJ15,AW15,AY15) -> 150 | BF15: =SUM(F15,H15,J15,L15,N15,P15,R15,T15,V15,X15,Z15,AB15,AK15,AX15,AZ15) -> 150
B16: 44244 | C16: Начислены % банка | D16: 4.76 | N16: 4.76 | AI16: =AC16*$AH$5 -> 0 | AJ16: =SUM(AL16:AV16) -> 4.76 | AV16: 4.76
A17: 9 | B17: 44244 | C17: Материальная помощь | D17: 238 | N17: 238 | Y17: 150 | AA17: =SUM(AF17,AH17) -> 0 | AB17: =SUM(AC17:AE17) -> 0 | AG17: =AC17*$AF$5 -> 0 | AI17: =AC17*$AH$5 -> 0 | AJ17: =SUM(AL17:AV17) -> 88 | AL17: 88 | AY17: =SUM(BA17:BD17) -> 0 | BE17: =SUM(E17,G17,I17,K17,M17,O17,Q17,S17,U17,W17,Y17,AA17,AJ17,AW17,AY17) -> 238 | BF17: =SUM(F17,H17,J17,L17,N17,P17,R17,T17,V17,X17,Z17,AB17,AK17,AX17,AZ17) -> 238
A18: 10 | B18: 44252 | C18: Поступили членские взносы от нанимателя | D18: 332.84 | M18: 332.84 | AA18: =SUM(AF18,AH18) -> 0 | AB18: =SUM(AC18:AE18) -> 332.84 | AC18: 332.84 | AG18: =AC18*$AF$5 -> 0 | AI18: =AC18*$AH$5 -> 0 | AJ18: =SUM(AL18:AV18) -> 0 | AY18: =SUM(BA18:BD18) -> 0 | BE18: =SUM(E18,G18,I18,K18,M18,O18,Q18,S18,U18,W18,Y18,AA18,AJ18,AW18,AY18) -> 332.84 | BF18: =SUM(F18,H18,J18,L18,N18,P18,R18,T18,V18,X18,Z18,AB18,AK18,AX18,AZ18) -> 332.84
A19: 11 | B19: 44253 | C19: Начислены % банка | D19: 0.86 | M19: 0.86 | AA19: =SUM(AF19,AH19) -> 0 | AB19: =SUM(AC19:AE19) -> 0.86 | AD19: 0.86 | AG19: =AC19*$AF$5 -> 0 | AI19: =AC19*$AH$5 -> 0 | AJ19: =SUM(AL19:AV19) -> 0 | AY19: =SUM(BA19:BD19) -> 0 | BE19: =SUM(E19,G19,I19,K19,M19,O19,Q19,S19,U19,W19,Y19,AA19,AJ19,AW19,AY19) -> 0.86 | BF19: =SUM(F19,H19,J19,L19,N19,P19,R19,T19,V19,X19,Z19,AB19,AK19,AX19,AZ19) -> 0.86
A20: 12 | B20: 44255 | C20: Закрытие месяца | D20: 100.7 | AA20: =SUM(AF20,AH20) -> 105.46 | AB20: =SUM(AC20:AE20) -> 0 | AF20: 88 | AG20: =AC20*$AF$5 -> 0 | AH20: 17.46 | AI20: =AC20*$AH$5 -> 0 | AJ20: =SUM(AL20:AV20) -> 0 | AK20: 105.46 | AY20: =SUM(BA20:BD20) -> 0 | BE20: =SUM(E20,G20,I20,K20,M20,O20,Q20,S20,U20,W20,Y20,AA20,AJ20,AW20,AY20) -> 105.46 | BF20: =SUM(F20,H20,J20,L20,N20,P20,R20,T20,V20,X20,Z20,AB20,AK20,AX20,AZ20) -> 105.46
A21: 13 | AA21: =SUM(AF21,AH21) -> 0 | AB21: =SUM(AC21:AE21) -> 0 | AG21: =AC21*$AF$5 -> 0 | AI21: =AC21*$AH$5 -> 0 | AJ21: =SUM(AL21:AV21) -> 0 | AY21: =SUM(BA21:BD21) -> 0 | BE21: =SUM(E21,G21,I21,K21,M21,O21,Q21,S21,U21,W21,Y21,AA21,AJ21,AW21,AY21) -> 0 | BF21: =SUM(F21,H21,J21,L21,N21,P21,R21,T21,V21,X21,Z21,AB21,AK21,AX21,AZ21) -> 0
A22: 14 | AA22: =SUM(AF22,AH22) -> 0 | AB22: =SUM(AC22:AE22) -> 0 | AG22: =AC22*$AF$5 -> 0 | AI22: =AC22*$AH$5 -> 0 | AJ22: =SUM(AL22:AV22) -> 0 | AY22: =SUM(BA22:BD22) -> 0 | BE22: =SUM(E22,G22,I22,K22,M22,O22,Q22,S22,U22,W22,Y22,AA22,AJ22,AW22,AY22) -> 0 | BF22: =SUM(F22,H22,J22,L22,N22,P22,R22,T22,V22,X22,Z22,AB22,AK22,AX22,AZ22) -> 0
C23: Обороты | D23: =SUM(D8:D22) -> 996.61 | E23: =SUM(E8:E22) -> 0 | F23: =SUM(F8:F22) -> 0 | G23: =SUM(G8:G22) -> 0 | H23: =SUM(H8:H22) -> 0 | I23: =SUM(I8:I22) -> 0 | J23: =SUM(J8:J22) -> 0 | K23: =SUM(K8:K22) -> 0 | ... BH23: =SUM(BH8:BH22) -> 0
C24: Сальдо на 01.03.2021г. | E24: =IF((SUM(E$7,E$23)-(SUM(F$7,F$23))<0),0)+IF((SUM(E$7,E$23)-(SUM(F$7,F$23))>0),(SUM(E$7,E$23)-(SUM(F$7,F$23)))) -> 0 | F24: =IF((SUM(F$7,F$23)-(SUM(E$7,E$23))<0),0)+IF((SUM(F$7,F$23)-(SUM(E$7,E$23))>0),(SUM(F$7,F$23)-(SUM(E$7,E$23)))) -> 0 | G24: =IF((SUM(G$7,G$23)-(SUM(H$7,H$23))<0),0)+IF((SUM(G$7,G$23)-(SUM(H$7,H$23))>0),(SUM(G$7,G$23)-(SUM(H$7,H$23)))) -> 0 | H24: =IF((SUM(H$7,H$23)-(SUM(G$7,G$23))<0),0)+IF((SUM(H$7,H$23)-(SUM(G$7,G$23))>0),(SUM(H$7,H$23)-(SUM(G$7,G$23)))) -> 0 | I24: =IF((SUM(I$7,I$23)-(SUM(J$7,J$23))<0),0)+IF((SUM(I$7,I$23)-(SUM(J$7,J$23))>0),(SUM(I$7,I$23)-(SUM(J$7,J$23)))) -> 0 | J24: =IF((SUM(J$7,J$23)-(SUM(I$7,I$23))<0),0)+IF((SUM(J$7,J$23)-(SUM(I$7,I$23))>0),(SUM(J$7,J$23)-(SUM(I$7,I$23)))) -> 0 | K24: =IF((SUM(K$7,K$23)-(SUM(L$7,L$23))<0),0)+IF((SUM(K$7,K$23)-(SUM(L$7,L$23))>0),(SUM(K$7,K$23)-(SUM(L$7,L$23)))) -> 0 | L24: =IF((SUM(L$7,L$23)-(SUM(K$7,K$23))<0),0)+IF((SUM(L$7,L$23)-(SUM(K$7,K$23))>0),(SUM(L$7,L$23)-(SUM(K$7,K$23)))) -> 0 | M24: =IF((SUM(M$7,M$23)-(SUM(N$7,N$23))<0),0)+IF((SUM(M$7,M$23)-(SUM(N$7,N$23))>0),(SUM(M$7,M$23)-(SUM(N$7,N$23)))) -> 2252.03 | N24: =IF((SUM(N$7,N$23)-(SUM(M$7,M$23))<0),0)+IF((SUM(N$7,N$23)-(SUM(M$7,M$23))>0),(SUM(N$7,N$23)-(SUM(M$7,M$23)))) -> 0 | O24: =IF((SUM(O$7,O$23)-(SUM(P$7,P$23))<0),0)+IF((SUM(O$7,O$23)-(SUM(P$7,P$23))>0),(SUM(O$7,O$23)-(SUM(P$7,P$23)))) -> 0 | P24: =IF((SUM(P$7,P$23)-(SUM(O$7,O$23))<0),0)+IF((SUM(P$7,P$23)-(SUM(O$7,O$23))>0),(SUM(P$7,P$23)-(SUM(O$7,O$23)))) -> 0 | Q24: =IF((SUM(Q$7,Q$23)-(SUM(R$7,R$23))<0),0)+IF((SUM(Q$7,Q$23)-(SUM(R$7,R$23))>0),(SUM(Q$7,Q$23)-(SUM(R$7,R$23)))) -> 0 | R24: =IF((SUM(R$7,R$23)-(SUM(Q$7,Q$23))<0),0)+IF((SUM(R$7,R$23)-(SUM(Q$7,Q$23))>0),(SUM(R$7,R$23)-(SUM(Q$7,Q$23)))) -> 0 | S24: =IF((SUM(S$7,S$23)-(SUM(T$7,T$23))<0),0)+IF((SUM(S$7,S$23)-(SUM(T$7,T$23))>0),(SUM(S$7,S$23)-(SUM(T$7,T$23)))) -> 0 | T24: =IF((SUM(T$7,T$23)-(SUM(S$7,S$23))<0),0)+IF((SUM(T$7,T$23)-(SUM(S$7,S$23))>0),(SUM(T$7,T$23)-(SUM(S$7,S$23)))) -> 0 | U24: =IF((SUM(U$7,U$23)-(SUM(V$7,V$23))<0),0)+IF((SUM(U$7,U$23)-(SUM(V$7,V$23))>0),(SUM(U$7,U$23)-(SUM(V$7,V$23)))) -> 0 | V24: =IF((SUM(V$7,V$23)-(SUM(U$7,U$23))<0),0)+IF((SUM(V$7,V$23)-(SUM(U$7,U$23))>0),(SUM(V$7,V$23)-(SUM(U$7,U$23)))) -> 0 | W24: =IF((SUM(W$7,W$23)-(SUM(X$7,X$23))<0),0)+IF((SUM(W$7,W$23)-(SUM(X$7,X$23))>0),(SUM(W$7,W$23)-(SUM(X$7,X$23)))) -> 0 | X24: =IF((SUM(X$7,X$23)-(SUM(W$7,W$23))<0),0)+IF((SUM(X$7,X$23)-(SUM(W$7,W$23))>0),(SUM(X$7,X$23)-(SUM(W$7,W$23)))) -> 0 | Y24: =IF((SUM(Y$7,Y$23)-(SUM(Z$7,Z$23))<0),0)+IF((SUM(Y$7,Y$23)-(SUM(Z$7,Z$23))>0),(SUM(Y$7,Y$23)-(SUM(Z$7,Z$23)))) -> 0 | Z24: =IF((SUM(Z$7,Z$23)-(SUM(Y$7,Y$23))<0),0)+IF((SUM(Z$7,Z$23)-(SUM(Y$7,Y$23))>0),(SUM(Z$7,Z$23)-(SUM(Y$7,Y$23)))) -> 0 | AA24: =IF((SUM(AA$7,AA$23)-(SUM(AB$7,AB$23))<0),0)+IF((SUM(AA$7,AA$23)-(SUM(AB$7,AB$23))>0),(SUM(AA$7,AA$23)-(SUM(AB$7,AB$23)))) -> 0 | AB24: =IF((SUM(AB$7,AB$23)-(SUM(AA$7,AA$23))<0),0)+IF((SUM(AB$7,AB$23)-(SUM(AA$7,AA$23))>0),(SUM(AB$7,AB$23)-(SUM(AA$7,AA$23)))) -> 2252.03 | AC24: =AC7+AC23 -> 662.76 | AD24: =AD7+AD23 -> 1.7 | AE24: =AE7+AE23 -> 0 | AF24: =IF((SUM(AF$7,AF$23)-(SUM(AG$7,AG$23))<0),0)+IF((SUM(AF$7,AF$23)-(SUM(AG$7,AG$23))>0),(SUM(AF$7,AF$23)-(SUM(AG$7,AG$23)))) -> 88 | AG24: =IF((SUM(AG$7,AG$23)-(SUM(AF$7,AF$23))<0),0)+IF((SUM(AG$7,AG$23)-(SUM(AF$7,AF$23))>0),(SUM(AG$7,AG$23)-(SUM(AF$7,AF$23)))) -> 0 | AH24: =IF((SUM(AH$7,AH$23)-(SUM(AI$7,AI$23))<0),0)+IF((SUM(AH$7,AH$23)-(SUM(AI$7,AI$23))>0),(SUM(AH$7,AH$23)-(SUM(AI$7,AI$23)))) -> 29.16 | AI24: =IF((SUM(AI$7,AI$23)-(SUM(AH$7,AH$23))<0),0)+IF((SUM(AI$7,AI$23)-(SUM(AH$7,AH$23))>0),(SUM(AI$7,AI$23)-(SUM(AH$7,AH$23)))) -> 0 | AJ24: =IF((SUM(AJ$7,AJ$23)-(SUM(AK$7,AK$23))<0),0)+IF((SUM(AJ$7,AJ$23)-(SUM(AK$7,AK$23))>0),(SUM(AJ$7,AJ$23)-(SUM(AK$7,AK$23)))) -> 1.4210855e-14 | AK24: =IF((SUM(AK$7,AK$23)-(SUM(AJ$7,AJ$23))<0),0)+IF((SUM(AK$7,AK$23)-(SUM(AJ$7,AJ$23))>0),(SUM(AK$7,AK$23)-(SUM(AJ$7,AJ$23)))) -> 0 | AL24: =AL7+AL23 -> 88 | AM24: =AM7+AM23 -> 0 | AN24: =AN7+AN23 -> 0 | AO24: =AO7+AO23 -> 0 | AP24: =AP7+AP23 -> 0 | AQ24: =AQ7+AQ23 -> 0 | AR24: =AR7+AR23 -> 0 | AS24: =AS7+AS23 -> 0 | ... AV24: =AV7+AV23 -> 29.16 | AW24: =IF((SUM(AW$7,AW$23)-(SUM(AX$7,AX$23))<0),0)+IF((SUM(AW$7,AW$23)-(SUM(AX$7,AX$23))>0),(SUM(AW$7,AW$23)-(SUM(AX$7,AX$23)))) -> 0 | AX24: =IF((SUM(AX$7,AX$23)-(SUM(AW$7,AW$23))<0),0)+IF((SUM(AX$7,AX$23)-(SUM(AW$7,AW$23))>0),(SUM(AX$7,AX$23)-(SUM(AW$7,AW$23)))) -> 0 | AY24: =IF((SUM(AY$7,AY$23)-(SUM(AZ$7,AZ$23))<0),0)+IF((SUM(AY$7,AY$23)-(SUM(AZ$7,AZ$23))>0),(SUM(AY$7,AY$23)-(SUM(AZ$7,AZ$23)))) -> 0 | AZ24: =IF((SUM(AZ$7,AZ$23)-(SUM(AY$7,AY$23))<0),0)+IF((SUM(AZ$7,AZ$23)-(SUM(AY$7,AY$23))>0),(SUM(AZ$7,AZ$23)-(SUM(AY$7,AY$23)))) -> 0 | BA24: =BA7+BA23 -> 0 | BB24: =BB7+BB23 -> 0 | BC24: =BC7+BC23 -> 0 | BD24: =BD7+BD23 -> 0 | BE24: =SUM(E24,G24,I24,K24,M24,O24,Q24,S24,U24,W24,Y24,AA24,AJ24,AW24,AY24) -> 2252.03 | BF24: =SUM(F24,H24,J24,L24,N24,P24,R24,T24,V24,X24,Z24,AB24,AK24,AX24,AZ24) -> 2252.03 | BG24: =BG7-BG23 -> 0 | BH24: =BH7-BH23 -> 0
BF26: =BF24-BE24 -> 0

Sheet март
B1: за | C1: март | D1: 2021года
A3: № п/п | B3: Число, месяц | C3: Краткое содержание операции или номер документа | D3: Сумма | E3: Счет 01 | G3: Счет 02 | I3: Счет 10 | K3: Счет 50 | M3: Счет 51 | O3: Счет 55 | Q3: Счет 60 | S3: Счет 68 | U3: Счет 71 | W3: Счет 76 | Y3: Счет 79 | AA3: Счет 86/01 | AC3: Расшифровка счета 86/01 | AF3: счет 86/01 Расшифровка счета | AJ3: Счет 26/01 | AL3: Расшифровка счета 26/01 | AW3: Счет 86/02 | AY3: Счет 26/02 | BA3: Расшифровка счета 26/02 | BE3: Контрольные суммы | BG3: Забалансовый счет 006
E4: Основные средства | G4: Амортизация осн.средств | I4: Материалы | K4: Касса | M4: Текущий расчетный счет | O4: Специальные счета в банках (депозитный) | Q4: Расчеты с поставщиками и подрядчиками | S4: Расчеты по налогам и сборам | U4: Расчеты с подотчетными лицами | W4: Расчеты с разными дебиторами и кредиторами | Y4: Внутрихозяйственные расчеты | AA4: Общехозяйственные доходы | AC4: Отчисления от членских профвзносов | AD4: % банка | AE4: % банка по депозиту | AF4: фонд помощи | AH4: другие статьи не включенные в фонд | AJ4: Общехозяйственные расходы | AL4: Материальная помощь членам профсоюза | AM4: Детское оздоровление | AN4: Благотворительная помощь | AO4: Обучение профсоюзного актива | AP4: Туристическо-экскурсионная деятельность, в т.ч. Услуги ТЭУП "Беларустурист" | AQ4: Культурно-массовая работа | AR4: Спортивная и культурно-массовая работа | AS4: Информационная работа, в т.ч.подписка на "Беларускi час" | AT4: Вознаграждение профсоюзному активу за выполнение общественной нагрузки | AU4: Расходы на целевые мероприятия (в районе, городе, области) | AV4: Прочие расходы, в т.ч.комиссионное вознаграждение банку | AW4: Общехозяйственные доходы (Целевые поступления по коллективным договорам) | AY4: Общехозяйственные расходы | BA4: Туристическо-экскурсионная деятельность, в т.ч. Услуги ТЭУП "Беларустурист" | BB4: =февраль!BB4 -> матпомощь (страховка) | BC4: Культурно-массовая работа | BD4: Спортивная работа
E6: дебет | F6: кредит | G6: дебет | H6: кредит | I6: дебет | J6: кредит | K6: дебет | L6: кредит | M6: дебет | N6: кредит | O6: дебет | P6: кредит | Q6: дебет | R6: кредит | S6: дебет | T6: кредит | U6: дебет | V6: кредит | W6: дебет | X6: кредит | Y6: дебет | Z6: кредит | AA6: дебет | AB6: кредит | AF6: дебет | AG6: кредит | AH6: дебет | AI6: кредит | AJ6: дебет | AK6: кредит | AL6: фонд помощи | AO6: другие статьи не включенные в фонд | AW6: дебет | AX6: кредит | AY6: дебет | AZ6: кредит | BE6: дебет | BF6: кредит | BG6: кол-во | BH6: сумма
C7: Сальдо на 01.03.2021г. | E7: =февраль!E24 -> 0 | F7: =февраль!F24 -> 0 | G7: =февраль!G24 -> 0 | H7: =февраль!H24 -> 0 | I7: =февраль!I24 -> 0 | J7: =февраль!J24 -> 0 | K7: =февраль!K24 -> 0 | L7: =февраль!L24 -> 0 | ... BH7: =февраль!BH24 -> 0
A8: 8 | B8: 44256 | C8: Начислены % банка | D8: 11.7 | N8: 11.7 | AA8: =SUM(AF8,AH8) -> 0 | AB8: =SUM(AC8:AE8) -> 0 | AG8: =AC8*$AF$5 -> 0 | AI8: =AC8*$AH$5 -> 0 | AJ8: =SUM(AL8:AV8) -> 11.7 | AV8: 11.7 | AY8: =SUM(BA8:BD8) -> 0 | BE8: =SUM(E8,G8,I8,K8,M8,O8,Q8,S8,U8,W8,Y8,AA8,AJ8,AW8,AY8) -> 11.7 | BF8: =SUM(F8,H8,J8,L8,N8,P8,R8,T8,V8,X8,Z8,AB8,AK8,AX8,AZ8) -> 11.7
A9: 2 | B9: 44256 | C9: Поступили членские взносы от нанимателя | D9: 6.64 | M9: 6.64 | AA9: =SUM(AF9,AH9) -> 0 | AB9: =SUM(AC9:AE9) -> 6.64 | AC9: 6.64 | AG9: =AC9*$AF$5 -> 0 | AI9: =AC9*$AH$5 -> 0 | AJ9: =SUM(AL9:AV9) -> 0 | AY9: =SUM(BA9:BD9) -> 0 | BE9: =SUM(E9,G9,I9,K9,M9,O9,Q9,S9,U9,W9,Y9,AA9,AJ9,AW9,AY9) -> 6.64 | BF9: =SUM(F9,H9,J9,L9,N9,P9,R9,T9,V9,X9,Z9,AB9,AK9,AX9,AZ9) -> 6.64
A10: 3 | B10: 44256 | C10: Поступили членские взносы от нанимателя | D10: 374.19 | M10: 374.19 | AA10: =SUM(AF10,AH10) -> 0 | AB10: =SUM(AC10:AE10) -> 374.19 | AC10: 374.19 | AG10: =AC10*$AF$5 -> 0 | AI10: =AC10*$AH$5 -> 0 | AJ10: =SUM(AL10:AV10) -> 0 | AY10: =SUM(BA10:BD10) -> 0 | BE10: =SUM(E10,G10,I10,K10,M10,O10,Q10,S10,U10,W10,Y10,AA10,AJ10,AW10,AY10) -> 374.19 | BF10: =SUM(F10,H10,J10,L10,N10,P10,R10,T10,V10,X10,Z10,AB10,AK10,AX10,AZ10) -> 374.19
A11: 4 | B11: 44258 | C11: Подарочные сертификаты | D11: 760 | N11: 760 | AA11: =SUM(AF11,AH11) -> 760 | AB11: =SUM(AC11:AE11) -> 0 | AG11: =AC11*$AF$5 -> 0 | AH11: 760 | AI11: =AC11*$AH$5 -> 0 | AJ11: =SUM(AL11:AV11) -> 760 | AQ11: 760 | AY11: =SUM(BA11:BD11) -> 0 | BE11: =SUM(E11,G11,I11,K11,M11,O11,Q11,S11,U11,W11,Y11,AA11,AJ11,AW11,AY11) -> 1520 | BF11: =SUM(F11,H11,J11,L11,N11,P11,R11,T11,V11,X11,Z11,AB11,AK11,AX11,AZ11) -> 760
A12: 5 | B12: 44258 | C12: Подарочные сертификаты | D12: 760 | N12: 760 | AA12: =SUM(AF12,AH12) -> 760 | AB12: =SUM(AC12:AE12) -> 0 | AG12: =AC12*$AF$5 -> 0 | AH12: 760 | AI12: =AC12*$AH$5 -> 0 | AJ12: =SUM(AL12:AV12) -> 760 | AQ12: 760 | AY12: =SUM(BA12:BD12) -> 0 | BE12: =SUM(E12,G12,I12,K12,M12,O12,Q12,S12,U12,W12,Y12,AA12,AJ12,AW12,AY12) -> 1520 | BF12: =SUM(F12,H12,J12,L12,N12,P12,R12,T12,V12,X12,Z12,AB12,AK12,AX12,AZ12) -> 760
A13: 6 | B13: 44267 | C13: Материальная помощь | D13: 50 | M13: 50 | Z13: 50 | AA13: =SUM(AF13,AH13) -> 0 | AB13: =SUM(AC13:AE13) -> 0 | AG13: =AC13*$AF$5 -> 0 | AI13: =AC13*$AH$5 -> 0 | AJ13: =SUM(AL13:AV13) -> 0 | AY13: =SUM(BA13:BD13) -> 0 | BE13: =SUM(E13,G13,I13,K13,M13,O13,Q13,S13,U13,W13,Y13,AA13,AJ13,AW13,AY13) -> 50 | BF13: =SUM(F13,H13,J13,L13,N13,P13,R13,T13,V13,X13,Z13,AB13,AK13,AX13,AZ13) -> 50
A14: 7 | B14: 44274 | C14: Материальная помощь | D14: 292 | N14: 292 | Y14: 50 | AA14: =SUM(AF14,AH14) -> 0 | AB14: =SUM(AC14:AE14) -> 0 | AG14: =AC14*$AF$5 -> 0 | AI14: =AC14*$AH$5 -> 0 | AJ14: =SUM(AL14:AV14) -> 242 | AL14: 97 | AT14: 145 | AY14: =SUM(BA14:BD14) -> 0 | BE14: =SUM(E14,G14,I14,K14,M14,O14,Q14,S14,U14,W14,Y14,AA14,AJ14,AW14,AY14) -> 292 | BF14: =SUM(F14,H14,J14,L14,N14,P14,R14,T14,V14,X14,Z14,AB14,AK14,AX14,AZ14) -> 292
A15: 8 | B15: 44274 | C15: Начислены % банка | D15: 5.84 | N15: 5.84 | AA15: =SUM(AF15,AH15) -> 0 | AB15: =SUM(AC15:AE15) -> 0 | AG15: =AC15*$AF$5 -> 0 | AI15: =AC15*$AH$5 -> 0 | AJ15: =SUM(AL15:AV15) -> 5.84 | AV15: 5.84 | AY15: =SUM(BA15:BD15) -> 0 | BE15: =SUM(E15,G15,I15,K15,M15,O15,Q15,S15,U15,W15,Y15,AA15,AJ15,AW15,AY15) -> 5.84 | BF15: =SUM(F15,H15,J15,L15,N15,P15,R15,T15,V15,X15,Z15,AB15,AK15,AX15,AZ15) -> 5.84
A16: 9 | B16: 44286 | C16: Начислены % банка | D16: 0.46 | M16: 0.46 | AA16: =SUM(AF16,AH16) -> 0 | AB16: =SUM(AC16:AE16) -> 0.46 | AD16: 0.46 | AG16: =AC16*$AF$5 -> 0 | AI16: =AC16*$AH$5 -> 0 | AJ16: =SUM(AL16:AV16) -> 0 | AY16: =SUM(BA16:BD16) -> 0 | BE16: =SUM(E16,G16,I16,K16,M16,O16,Q16,S16,U16,W16,Y16,AA16,AJ16,AW16,AY16) -> 0.46 | BF16: =SUM(F16,H16,J16,L16,N16,P16,R16,T16,V16,X16,Z16,AB16,AK16,AX16,AZ16) -> 0.46
A17: 10 | B17: 44286 | C17: Закрытие месяца | D17: 259.54 | AA17: =SUM(AF17,AH17) -> 259.54 | AB17: =SUM(AC17:AE17) -> 0 | AF17: 97 | AG17: =AC17*$AF$5 -> 0 | AH17: 162.54 | AI17: =AC17*$AH$5 -> 0 | AJ17: =SUM(AL17:AV17) -> 0 | AK17: 1779.54 | AY17: =SUM(BA17:BD17) -> 0 | BE17: =SUM(E17,G17,I17,K17,M17,O17,Q17,S17,U17,W17,Y17,AA17,AJ17,AW17,AY17) -> 259.54 | BF17: =SUM(F17,H17,J17,L17,N17,P17,R17,T17,V17,X17,Z17,AB17,AK17,AX17,AZ17) -> 1779.54
A18: 11 | AA18: =SUM(AF18,AH18) -> 0 | AB18: =SUM(AC18:AE18) -> 0 | AG18: =AC18*$AF$5 -> 0 | AI18: =AC18*$AH$5 -> 0 | AJ18: =SUM(AL18:AV18) -> 0 | AY18: =SUM(BA18:BD18) -> 0 | BE18: =SUM(E18,G18,I18,K18,M18,O18,Q18,S18,U18,W18,Y18,AA18,AJ18,AW18,AY18) -> 0 | BF18: =SUM(F18,H18,J18,L18,N18,P18,R18,T18,V18,X18,Z18,AB18,AK18,AX18,AZ18) -> 0
A19: 12 | AA19: =SUM(AF19,AH19) -> 0 | AB19: =SUM(AC19:AE19) -> 0 | AG19: =AC19*$AF$5 -> 0 | AI19: =AC19*$AH$5 -> 0 | AJ19: =SUM(AL19:AV19) -> 0 | AY19: =SUM(BA19:BD19) -> 0 | BE19: =SUM(E19,G19,I19,K19,M19,O19,Q19,S19,U19,W19,Y19,AA19,AJ19,AW19,AY19) -> 0 | BF19: =SUM(F19,H19,J19,L19,N19,P19,R19,T19,V19,X19,Z19,AB19,AK19,AX19,AZ19) -> 0
A20: 13 | AA20: =SUM(AF20,AH20) -> 0 | AB20: =SUM(AC20:AE20) -> 0 | AG20: =AC20*$AF$5 -> 0 | AI20: =AC20*$AH$5 -> 0 | AJ20: =SUM(AL20:AV20) -> 0 | AY20: =SUM(BA20:BD20) -> 0 | BE20: =SUM(E20,G20,I20,K20,M20,O20,Q20,S20,U20,W20,Y20,AA20,AJ20,AW20,AY20) -> 0 | BF20: =SUM(F20,H20,J20,L20,N20,P20,R20,T20,V20,X20,Z20,AB20,AK20,AX20,AZ20) -> 0
A21: 14 | AA21: =SUM(AF21,AH21) -> 0 | AB21: =SUM(AC21:AE21) -> 0 | AG21: =AC21*$AF$5 -> 0 | AI21: =AC21*$AH$5 -> 0 | AJ21: =SUM(AL21:AV21) -> 0 | AY21: =SUM(BA21:BD21) -> 0 | BE21: =SUM(E21,G21,I21,K21,M21,O21,Q21,S21,U21,W21,Y21,AA21,AJ21,AW21,AY21) -> 0 | BF21: =SUM(F21,H21,J21,L21,N21,P21,R21,T21,V21,X21,Z21,AB21,AK21,AX21,AZ21) -> 0
C22: Обороты | D22: =SUM(D8:D21) -> 2520.37 | E22: =SUM(E8:E21) -> 0 | F22: =SUM(F8:F21) -> 0 | G22: =SUM(G8:G21) -> 0 | H22: =SUM(H8:H21) -> 0 | I22: =SUM(I8:I21) -> 0 | J22: =SUM(J8:J21) -> 0 | K22: =SUM(K8:K21) -> 0 | ... BH22: =SUM(BH8:BH21) -> 0
C23: Сальдо на 01.04.2021г. | E23: =IF((SUM(E$7,E$22)-(SUM(F$7,F$22))<0),0)+IF((SUM(E$7,E$22)-(SUM(F$7,F$22))>0),(SUM(E$7,E$22)-(SUM(F$7,F$22)))) -> 0 | F23: =IF((SUM(F$7,F$22)-(SUM(E$7,E$22))<0),0)+IF((SUM(F$7,F$22)-(SUM(E$7,E$22))>0),(SUM(F$7,F$22)-(SUM(E$7,E$22)))) -> 0 | G23: =IF((SUM(G$7,G$22)-(SUM(H$7,H$22))<0),0)+IF((SUM(G$7,G$22)-(SUM(H$7,H$22))>0),(SUM(G$7,G$22)-(SUM(H$7,H$22)))) -> 0 | H23: =IF((SUM(H$7,H$22)-(SUM(G$7,G$22))<0),0)+IF((SUM(H$7,H$22)-(SUM(G$7,G$22))>0),(SUM(H$7,H$22)-(SUM(G$7,G$22)))) -> 0 | I23: =IF((SUM(I$7,I$22)-(SUM(J$7,J$22))<0),0)+IF((SUM(I$7,I$22)-(SUM(J$7,J$22))>0),(SUM(I$7,I$22)-(SUM(J$7,J$22)))) -> 0 | J23: =IF((SUM(J$7,J$22)-(SUM(I$7,I$22))<0),0)+IF((SUM(J$7,J$22)-(SUM(I$7,I$22))>0),(SUM(J$7,J$22)-(SUM(I$7,I$22)))) -> 0 | K23: =IF((SUM(K$7,K$22)-(SUM(L$7,L$22))<0),0)+IF((SUM(K$7,K$22)-(SUM(L$7,L$22))>0),(SUM(K$7,K$22)-(SUM(L$7,L$22)))) -> 0 | L23: =IF((SUM(L$7,L$22)-(SUM(K$7,K$22))<0),0)+IF((SUM(L$7,L$22)-(SUM(K$7,K$22))>0),(SUM(L$7,L$22)-(SUM(K$7,K$22)))) -> 0 | M23: =IF((SUM(M$7,M$22)-(SUM(N$7,N$22))<0),0)+IF((SUM(M$7,M$22)-(SUM(N$7,N$22))>0),(SUM(M$7,M$22)-(SUM(N$7,N$22)))) -> 853.78 | N23: =IF((SUM(N$7,N$22)-(SUM(M$7,M$22))<0),0)+IF((SUM(N$7,N$22)-(SUM(M$7,M$22))>0),(SUM(N$7,N$22)-(SUM(M$7,M$22)))) -> 0 | O23: =IF((SUM(O$7,O$22)-(SUM(P$7,P$22))<0),0)+IF((SUM(O$7,O$22)-(SUM(P$7,P$22))>0),(SUM(O$7,O$22)-(SUM(P$7,P$22)))) -> 0 | P23: =IF((SUM(P$7,P$22)-(SUM(O$7,O$22))<0),0)+IF((SUM(P$7,P$22)-(SUM(O$7,O$22))>0),(SUM(P$7,P$22)-(SUM(O$7,O$22)))) -> 0 | Q23: =IF((SUM(Q$7,Q$22)-(SUM(R$7,R$22))<0),0)+IF((SUM(Q$7,Q$22)-(SUM(R$7,R$22))>0),(SUM(Q$7,Q$22)-(SUM(R$7,R$22)))) -> 0 | R23: =IF((SUM(R$7,R$22)-(SUM(Q$7,Q$22))<0),0)+IF((SUM(R$7,R$22)-(SUM(Q$7,Q$22))>0),(SUM(R$7,R$22)-(SUM(Q$7,Q$22)))) -> 0 | S23: =IF((SUM(S$7,S$22)-(SUM(T$7,T$22))<0),0)+IF((SUM(S$7,S$22)-(SUM(T$7,T$22))>0),(SUM(S$7,S$22)-(SUM(T$7,T$22)))) -> 0 | T23: =IF((SUM(T$7,T$22)-(SUM(S$7,S$22))<0),0)+IF((SUM(T$7,T$22)-(SUM(S$7,S$22))>0),(SUM(T$7,T$22)-(SUM(S$7,S$22)))) -> 0 | U23: =IF((SUM(U$7,U$22)-(SUM(V$7,V$22))<0),0)+IF((SUM(U$7,U$22)-(SUM(V$7,V$22))>0),(SUM(U$7,U$22)-(SUM(V$7,V$22)))) -> 0 | V23: =IF((SUM(V$7,V$22)-(SUM(U$7,U$22))<0),0)+IF((SUM(V$7,V$22)-(SUM(U$7,U$22))>0),(SUM(V$7,V$22)-(SUM(U$7,U$22)))) -> 0 | W23: =IF((SUM(W$7,W$22)-(SUM(X$7,X$22))<0),0)+IF((SUM(W$7,W$22)-(SUM(X$7,X$22))>0),(SUM(W$7,W$22)-(SUM(X$7,X$22)))) -> 0 | X23: =IF((SUM(X$7,X$22)-(SUM(W$7,W$22))<0),0)+IF((SUM(X$7,X$22)-(SUM(W$7,W$22))>0),(SUM(X$7,X$22)-(SUM(W$7,W$22)))) -> 0 | Y23: =IF((SUM(Y$7,Y$22)-(SUM(Z$7,Z$22))<0),0)+IF((SUM(Y$7,Y$22)-(SUM(Z$7,Z$22))>0),(SUM(Y$7,Y$22)-(SUM(Z$7,Z$22)))) -> 0 | Z23: =IF((SUM(Z$7,Z$22)-(SUM(Y$7,Y$22))<0),0)+IF((SUM(Z$7,Z$22)-(SUM(Y$7,Y$22))>0),(SUM(Z$7,Z$22)-(SUM(Y$7,Y$22)))) -> 0 | AA23: =IF((SUM(AA$7,AA$22)-(SUM(AB$7,AB$22))<0),0)+IF((SUM(AA$7,AA$22)-(SUM(AB$7,AB$22))>0),(SUM(AA$7,AA$22)-(SUM(AB$7,AB$22)))) -> 0 | AB23: =IF((SUM(AB$7,AB$22)-(SUM(AA$7,AA$22))<0),0)+IF((SUM(AB$7,AB$22)-(SUM(AA$7,AA$22))>0),(SUM(AB$7,AB$22)-(SUM(AA$7,AA$22)))) -> 853.78 | AC23: =AC7+AC22 -> 1043.59 | AD23: =AD7+AD22 -> 2.16 | AE23: =AE7+AE22 -> 0 | AF23: =IF((SUM(AF$7,AF$22)-(SUM(AG$7,AG$22))<0),0)+IF((SUM(AF$7,AF$22)-(SUM(AG$7,AG$22))>0),(SUM(AF$7,AF$22)-(SUM(AG$7,AG$22)))) -> 185 | AG23: =IF((SUM(AG$7,AG$22)-(SUM(AF$7,AF$22))<0),0)+IF((SUM(AG$7,AG$22)-(SUM(AF$7,AF$22))>0),(SUM(AG$7,AG$22)-(SUM(AF$7,AF$22)))) -> 0 | AH23: =IF((SUM(AH$7,AH$22)-(SUM(AI$7,AI$22))<0),0)+IF((SUM(AH$7,AH$22)-(SUM(AI$7,AI$22))>0),(SUM(AH$7,AH$22)-(SUM(AI$7,AI$22)))) -> 1711.7 | AI23: =IF((SUM(AI$7,AI$22)-(SUM(AH$7,AH$22))<0),0)+IF((SUM(AI$7,AI$22)-(SUM(AH$7,AH$22))>0),(SUM(AI$7,AI$22)-(SUM(AH$7,AH$22)))) -> 0 | AJ23: =IF((SUM(AJ$7,AJ$22)-(SUM(AK$7,AK$22))<0),0)+IF((SUM(AJ$7,AJ$22)-(SUM(AK$7,AK$22))>0),(SUM(AJ$7,AJ$22)-(SUM(AK$7,AK$22)))) -> 0 | AK23: =IF((SUM(AK$7,AK$22)-(SUM(AJ$7,AJ$22))<0),0)+IF((SUM(AK$7,AK$22)-(SUM(AJ$7,AJ$22))>0),(SUM(AK$7,AK$22)-(SUM(AJ$7,AJ$22)))) -> 0 | AL23: =AL7+AL22 -> 185 | AM23: =AM7+AM22 -> 0 | AN23: =AN7+AN22 -> 0 | AO23: =AO7+AO22 -> 0 | AP23: =AP7+AP22 -> 0 | AQ23: =AQ7+AQ22 -> 1520 | AR23: =AR7+AR22 -> 0 | AS23: =AS7+AS22 -> 0 | ... AV23: =AV7+AV22 -> 46.7 | AW23: =IF((SUM(AW$7,AW$22)-(SUM(AX$7,AX$22))<0),0)+IF((SUM(AW$7,AW$22)-(SUM(AX$7,AX$22))>0),(SUM(AW$7,AW$22)-(SUM(AX$7,AX$22)))) -> 0 | AX23: =IF((SUM(AX$7,AX$22)-(SUM(AW$7,AW$22))<0),0)+IF((SUM(AX$7,AX$22)-(SUM(AW$7,AW$22))>0),(SUM(AX$7,AX$22)-(SUM(AW$7,AW$22)))) -> 0 | AY23: =IF((SUM(AY$7,AY$22)-(SUM(AZ$7,AZ$22))<0),0)+IF((SUM(AY$7,AY$22)-(SUM(AZ$7,AZ$22))>0),(SUM(AY$7,AY$22)-(SUM(AZ$7,AZ$22)))) -> 0 | AZ23: =IF((SUM(AZ$7,AZ$22)-(SUM(AY$7,AY$22))<0),0)+IF((SUM(AZ$7,AZ$22)-(SUM(AY$7,AY$22))>0),(SUM(AZ$7,AZ$22)-(SUM(AY$7,AY$22)))) -> 0 | BA23: =BA7+BA22 -> 0 | BB23: =BB7+BB22 -> 0 | BC23: =BC7+BC22 -> 0 | BD23: =BD7+BD22 -> 0 | BE23: =SUM(E23,G23,I23,K23,M23,O23,Q23,S23,U23,W23,Y23,AA23,AJ23,AW23,AY23) -> 853.78 | BF23: =SUM(F23,H23,J23,L23,N23,P23,R23,T23,V23,X23,Z23,AB23,AK23,AX23,AZ23) -> 853.78 | BG23: =BG7-BG22 -> 0 | BH23: =BH7-BH22 -> 0
BF25: =BF23-BE23 -> 0

Sheet апрель
B1: за | C1: апрель | D1: 2021 года
A3: № п/п | B3: Число, месяц | C3: Краткое содержание операции или номер документа | D3: Сумма | E3: Счет 01 | G3: Счет 02 | I3: Счет 10 | K3: Счет 50 | M3: Счет 51 | O3: Счет 55 | Q3: Счет 60 | S3: Счет 68 | U3: Счет 71 | W3: Счет 76 | Y3: Счет 79 | AA3: Счет 86/01 | AC3: Расшифровка счета 86/01 | AF3: счет 86/01 Расшифровка счета | AJ3: Счет 26/01 | AL3: Расшифровка счета 26/01 | AW3: Счет 86/02 | AY3: Счет 26/02 | BA3: Расшифровка счета 26/02 | BE3: Контрольные суммы | BG3: Забалансовый счет 006
E4: Основные средства | G4: Амортизация осн.средств | I4: Материалы | K4: Касса | M4: Текущий расчетный счет | O4: Специальные счета в банках (депозитный) | Q4: Расчеты с поставщиками и подрядчиками | S4: Расчеты по налогам и сборам | U4: Расчеты с подотчетными лицами | W4: Расчеты с разными дебиторами и кредиторами | Y4: Внутрихозяйственные расчеты | AA4: Общехозяйственные доходы | AC4: Отчисления от членских профвзносов | AD4: % банка | AE4: % банка по депозиту | AF4: фонд помощи | AH4: другие статьи не включенные в фонд | AJ4: Общехозяйственные расходы | AL4: Материальная помощь членам профсоюза | AM4: Детское оздоровление | AN4: Благотворительная помощь | AO4: Обучение профсоюзного актива | AP4: Туристическо-экскурсионная деятельность, в т.ч. Услуги ТЭУП "Беларустурист" | AQ4: Культурно-массовая работа | AR4: Спортивная и культурно-массовая работа | AS4: Информационная работа, в т.ч.подписка на "Беларускi час" | AT4: Вознаграждение профсоюзному активу за выполнение общественной нагрузки | AU4: Расходы на целевые мероприятия (в районе, городе, области) | AV4: Прочие расходы, в т.ч.комиссионное вознаграждение банку | AW4: Общехозяйственные доходы (Целевые поступления по коллективным договорам) | AY4: Общехозяйственные расходы | BA4: Туристическо-экскурсионная деятельность, в т.ч. Услуги ТЭУП "Беларустурист" | BB4: =март!BB4 -> матпомощь (страховка) | BC4: Культурно-массовая работа | BD4: Спортивная работа
E6: дебет | F6: кредит | G6: дебет | H6: кредит | I6: дебет | J6: кредит | K6: дебет | L6: кредит | M6: дебет | N6: кредит | O6: дебет | P6: кредит | Q6: дебет | R6: кредит | S6: дебет | T6: кредит | U6: дебет | V6: кредит | W6: дебет | X6: кредит | Y6: дебет | Z6: кредит | AA6: дебет | AB6: кредит | AF6: дебет | AG6: кредит | AH6: дебет | AI6: кредит | AJ6: дебет | AK6: кредит | AL6: фонд помощи | AO6: другие статьи не включенные в фонд | AW6: дебет | AX6: кредит | AY6: дебет | AZ6: кредит | BE6: дебет | BF6: кредит | BG6: кол-во | BH6: сумма
C7: Сальдо на 01.04.2021г. | E7: =март!E23 -> 0 | F7: =март!F23 -> 0 | G7: =март!G23 -> 0 | H7: =март!H23 -> 0 | I7: =март!I23 -> 0 | J7: =март!J23 -> 0 | K7: =март!K23 -> 0 | L7: =март!L23 -> 0 | ... BH7: =март!BH23 -> 0
A8: 1 | B8: 44287 | C8: Начислены % банка | D8: 0.01 | M8: 0.01 | AA8: =SUM(AF8,AH8) -> 0 | AB8: =SUM(AC8:AE8) -> 0.01 | AD8: 0.01 | AG8: =AC8*$AF$5 -> 0 | AI8: =AC8*$AH$5 -> 0 | AJ8: =SUM(AL8:AV8) -> 0 | AY8: =SUM(BA8:BD8) -> 0 | BE8: =SUM(E8,G8,I8,K8,M8,O8,Q8,S8,U8,W8,Y8,AA8,AJ8,AW8,AY8) -> 0.01 | BF8: =SUM(F8,H8,J8,L8,N8,P8,R8,T8,V8,X8,Z8,AB8,AK8,AX8,AZ8) -> 0.01
A9: 2 | B9: 44287 | C9: Поступили членские взносы от нанимателя | D9: 21.96 | M9: 21.96 | AA9: =SUM(AF9,AH9) -> 0 | AB9: =SUM(AC9:AE9) -> 21.96 | AC9: 21.96 | AG9: =AC9*$AF$5 -> 0 | AI9: =AC9*$AH$5 -> 0 | AJ9: =SUM(AL9:AV9) -> 0 | AY9: =SUM(BA9:BD9) -> 0 | BE9: =SUM(E9,G9,I9,K9,M9,O9,Q9,S9,U9,W9,Y9,AA9,AJ9,AW9,AY9) -> 21.96 | BF9: =SUM(F9,H9,J9,L9,N9,P9,R9,T9,V9,X9,Z9,AB9,AK9,AX9,AZ9) -> 21.96
A10: 3 | B10: 44287 | C10: Поступили членские взносы от нанимателя | D10: 392.43 | M10: 392.43 | AA10: =SUM(AF10,AH10) -> 0 | AB10: =SUM(AC10:AE10) -> 392.43 | AC10: 392.43 | AG10: =AC10*$AF$5 -> 0 | AI10: =AC10*$AH$5 -> 0 | AJ10: =SUM(AL10:AV10) -> 0 | AY10: =SUM(BA10:BD10) -> 0 | BE10: =SUM(E10,G10,I10,K10,M10,O10,Q10,S10,U10,W10,Y10,AA10,AJ10,AW10,AY10) -> 392.43 | BF10: =SUM(F10,H10,J10,L10,N10,P10,R10,T10,V10,X10,Z10,AB10,AK10,AX10,AZ10) -> 392.43
A11: 4 | B11: 44288 | C11: Начислены % банка | D11: 11.7 | N11: 11.7 | AA11: =SUM(AF11,AH11) -> 0 | AB11: =SUM(AC11:AE11) -> 0 | AG11: =AC11*$AF$5 -> 0 | AI11: =AC11*$AH$5 -> 0 | AJ11: =SUM(AL11:AV11) -> 11.7 | AV11: 11.7 | AY11: =SUM(BA11:BD11) -> 0 | BE11: =SUM(E11,G11,I11,K11,M11,O11,Q11,S11,U11,W11,Y11,AA11,AJ11,AW11,AY11) -> 11.7 | BF11: =SUM(F11,H11,J11,L11,N11,P11,R11,T11,V11,X11,Z11,AB11,AK11,AX11,AZ11) -> 11.7
A12: 5 | B12: 44316 | C12: Начислены % банка | D12: 0.52 | M12: 0.52 | AA12: =SUM(AF12,AH12) -> 0 | AB12: =SUM(AC12:AE12) -> 0.52 | AD12: 0.52 | AG12: =AC12*$AF$5 -> 0 | AI12: =AC12*$AH$5 -> 0 | AJ12: =SUM(AL12:AV12) -> 0 | AY12: =SUM(BA12:BD12) -> 0 | BE12: =SUM(E12,G12,I12,K12,M12,O12,Q12,S12,U12,W12,Y12,AA12,AJ12,AW12,AY12) -> 0.52 | BF12: =SUM(F12,H12,J12,L12,N12,P12,R12,T12,V12,X12,Z12,AB12,AK12,AX12,AZ12) -> 0.52
A13: 6 | B13: 44316 | C13: Поступили членские взносы от нанимателя | D13: 9.12 | M13: 9.12 | AA13: =SUM(AF13,AH13) -> 0 | AB13: =SUM(AC13:AE13) -> 9.12 | AC13: 9.12 | AG13: =AC13*$AF$5 -> 0 | AI13: =AC13*$AH$5 -> 0 | AJ13: =SUM(AL13:AV13) -> 0 | AY13: =SUM(BA13:BD13) -> 0 | BE13: =SUM(E13,G13,I13,K13,M13,O13,Q13,S13,U13,W13,Y13,AA13,AJ13,AW13,AY13) -> 9.12 | BF13: =SUM(F13,H13,J13,L13,N13,P13,R13,T13,V13,X13,Z13,AB13,AK13,AX13,AZ13) -> 9.12
A14: 7 | B14: 44316 | C14: Закрытие месяца | D14: 11.7 | AA14: =SUM(AF14,AH14) -> 11.7 | AB14: =SUM(AC14:AE14) -> 0 | AG14: =AC14*$AF$5 -> 0 | AH14: 11.7 | AI14: =AC14*$AH$5 -> 0 | AJ14: =SUM(AL14:AV14) -> 0 | AK14: 11.7 | AY14: =SUM(BA14:BD14) -> 0 | BE14: =SUM(E14,G14,I14,K14,M14,O14,Q14,S14,U14,W14,Y14,AA14,AJ14,AW14,AY14) -> 11.7 | BF14: =SUM(F14,H14,J14,L14,N14,P14,R14,T14,V14,X14,Z14,AB14,AK14,AX14,AZ14) -> 11.7
A15: 8 | AA15: =SUM(AF15,AH15) -> 0 | AB15: =SUM(AC15:AE15) -> 0 | AG15: =AC15*$AF$5 -> 0 | AI15: =AC15*$AH$5 -> 0 | AJ15: =SUM(AL15:AV15) -> 0 | AY15: =SUM(BA15:BD15) -> 0 | BE15: =SUM(E15,G15,I15,K15,M15,O15,Q15,S15,U15,W15,Y15,AA15,AJ15,AW15,AY15) -> 0 | BF15: =SUM(F15,H15,J15,L15,N15,P15,R15,T15,V15,X15,Z15,AB15,AK15,AX15,AZ15) -> 0
A16: 9 | AA16: =SUM(AF16,AH16) -> 0 | AB16: =SUM(AC16:AE16) -> 0 | AG16: =AC16*$AF$5 -> 0 | AI16: =AC16*$AH$5 -> 0 | AJ16: =SUM(AL16:AV16) -> 0 | AY16: =SUM(BA16:BD16) -> 0 | BE16: =SUM(E16,G16,I16,K16,M16,O16,Q16,S16,U16,W16,Y16,AA16,AJ16,AW16,AY16) -> 0 | BF16: =SUM(F16,H16,J16,L16,N16,P16,R16,T16,V16,X16,Z16,AB16,AK16,AX16,AZ16) -> 0
A17: 10 | AA17: =SUM(AF17,AH17) -> 0 | AB17: =SUM(AC17:AE17) -> 0 | AG17: =AC17*$AF$5 -> 0 | AI17: =AC17*$AH$5 -> 0 | AJ17: =SUM(AL17:AV17) -> 0 | AY17: =SUM(BA17:BD17) -> 0 | BE17: =SUM(E17,G17,I17,K17,M17,O17,Q17,S17,U17,W17,Y17,AA17,AJ17,AW17,AY17) -> 0 | BF17: =SUM(F17,H17,J17,L17,N17,P17,R17,T17,V17,X17,Z17,AB17,AK17,AX17,AZ17) -> 0
A18: 11 | AA18: =SUM(AF18,AH18) -> 0 | AB18: =SUM(AC18:AE18) -> 0 | AG18: =AC18*$AF$5 -> 0 | AI18: =AC18*$AH$5 -> 0 | AJ18: =SUM(AL18:AV18) -> 0 | AY18: =SUM(BA18:BD18) -> 0 | BE18: =SUM(E18,G18,I18,K18,M18,O18,Q18,S18,U18,W18,Y18,AA18,AJ18,AW18,AY18) -> 0 | BF18: =SUM(F18,H18,J18,L18,N18,P18,R18,T18,V18,X18,Z18,AB18,AK18,AX18,AZ18) -> 0
A19: 12 | AA19: =SUM(AF19,AH19) -> 0 | AB19: =SUM(AC19:AE19) -> 0 | AG19: =AC19*$AF$5 -> 0 | AI19: =AC19*$AH$5 -> 0 | AJ19: =SUM(AL19:AV19) -> 0 | AY19: =SUM(BA19:BD19) -> 0 | BE19: =SUM(E19,G19,I19,K19,M19,O19,Q19,S19,U19,W19,Y19,AA19,AJ19,AW19,AY19) -> 0 | BF19: =SUM(F19,H19,J19,L19,N19,P19,R19,T19,V19,X19,Z19,AB19,AK19,AX19,AZ19) -> 0
A20: 13 | AA20: =SUM(AF20,AH20) -> 0 | AB20: =SUM(AC20:AE20) -> 0 | AG20: =AC20*$AF$5 -> 0 | AI20: =AC20*$AH$5 -> 0 | AJ20: =SUM(AL20:AV20) -> 0 | AY20: =SUM(BA20:BD20) -> 0 | BE20: =SUM(E20,G20,I20,K20,M20,O20,Q20,S20,U20,W20,Y20,AA20,AJ20,AW20,AY20) -> 0 | BF20: =SUM(F20,H20,J20,L20,N20,P20,R20,T20,V20,X20,Z20,AB20,AK20,AX20,AZ20) -> 0
A21: 14 | AA21: =SUM(AF21,AH21) -> 0 | AB21: =SUM(AC21:AE21) -> 0 | AG21: =AC21*$AF$5 -> 0 | AI21: =AC21*$AH$5 -> 0 | AJ21: =SUM(AL21:AV21) -> 0 | AY21: =SUM(BA21:BD21) -> 0 | BE21: =SUM(E21,G21,I21,K21,M21,O21,Q21,S21,U21,W21,Y21,AA21,AJ21,AW21,AY21) -> 0 | BF21: =SUM(F21,H21,J21,L21,N21,P21,R21,T21,V21,X21,Z21,AB21,AK21,AX21,AZ21) -> 0
C22: Обороты | D22: =SUM(D8:D21) -> 447.44 | E22: =SUM(E8:E21) -> 0 | F22: =SUM(F8:F21) -> 0 | G22: =SUM(G8:G21) -> 0 | H22: =SUM(H8:H21) -> 0 | I22: =SUM(I8:I21) -> 0 | J22: =SUM(J8:J21) -> 0 | K22: =SUM(K8:K21) -> 0 | ... BH22: =SUM(BH8:BH21) -> 0
C23: Сальдо на 01.05.2021г. | E23: =IF((SUM(E$7,E$22)-(SUM(F$7,F$22))<0),0)+IF((SUM(E$7,E$22)-(SUM(F$7,F$22))>0),(SUM(E$7,E$22)-(SUM(F$7,F$22)))) -> 0 | F23: =IF((SUM(F$7,F$22)-(SUM(E$7,E$22))<0),0)+IF((SUM(F$7,F$22)-(SUM(E$7,E$22))>0),(SUM(F$7,F$22)-(SUM(E$7,E$22)))) -> 0 | G23: =IF((SUM(G$7,G$22)-(SUM(H$7,H$22))<0),0)+IF((SUM(G$7,G$22)-(SUM(H$7,H$22))>0),(SUM(G$7,G$22)-(SUM(H$7,H$22)))) -> 0 | H23: =IF((SUM(H$7,H$22)-(SUM(G$7,G$22))<0),0)+IF((SUM(H$7,H$22)-(SUM(G$7,G$22))>0),(SUM(H$7,H$22)-(SUM(G$7,G$22)))) -> 0 | I23: =IF((SUM(I$7,I$22)-(SUM(J$7,J$22))<0),0)+IF((SUM(I$7,I$22)-(SUM(J$7,J$22))>0),(SUM(I$7,I$22)-(SUM(J$7,J$22)))) -> 0 | J23: =IF((SUM(J$7,J$22)-(SUM(I$7,I$22))<0),0)+IF((SUM(J$7,J$22)-(SUM(I$7,I$22))>0),(SUM(J$7,J$22)-(SUM(I$7,I$22)))) -> 0 | K23: =IF((SUM(K$7,K$22)-(SUM(L$7,L$22))<0),0)+IF((SUM(K$7,K$22)-(SUM(L$7,L$22))>0),(SUM(K$7,K$22)-(SUM(L$7,L$22)))) -> 0 | L23: =IF((SUM(L$7,L$22)-(SUM(K$7,K$22))<0),0)+IF((SUM(L$7,L$22)-(SUM(K$7,K$22))>0),(SUM(L$7,L$22)-(SUM(K$7,K$22)))) -> 0 | M23: =IF((SUM(M$7,M$22)-(SUM(N$7,N$22))<0),0)+IF((SUM(M$7,M$22)-(SUM(N$7,N$22))>0),(SUM(M$7,M$22)-(SUM(N$7,N$22)))) -> 1266.12 | N23: =IF((SUM(N$7,N$22)-(SUM(M$7,M$22))<0),0)+IF((SUM(N$7,N$22)-(SUM(M$7,M$22))>0),(SUM(N$7,N$22)-(SUM(M$7,M$22)))) -> 0 | O23: =IF((SUM(O$7,O$22)-(SUM(P$7,P$22))<0),0)+IF((SUM(O$7,O$22)-(SUM(P$7,P$22))>0),(SUM(O$7,O$22)-(SUM(P$7,P$22)))) -> 0 | P23: =IF((SUM(P$7,P$22)-(SUM(O$7,O$22))<0),0)+IF((SUM(P$7,P$22)-(SUM(O$7,O$22))>0),(SUM(P$7,P$22)-(SUM(O$7,O$22)))) -> 0 | Q23: =IF((SUM(Q$7,Q$22)-(SUM(R$7,R$22))<0),0)+IF((SUM(Q$7,Q$22)-(SUM(R$7,R$22))>0),(SUM(Q$7,Q$22)-(SUM(R$7,R$22)))) -> 0 | R23: =IF((SUM(R$7,R$22)-(SUM(Q$7,Q$22))<0),0)+IF((SUM(R$7,R$22)-(SUM(Q$7,Q$22))>0),(SUM(R$7,R$22)-(SUM(Q$7,Q$22)))) -> 0 | S23: =IF((SUM(S$7,S$22)-(SUM(T$7,T$22))<0),0)+IF((SUM(S$7,S$22)-(SUM(T$7,T$22))>0),(SUM(S$7,S$22)-(SUM(T$7,T$22)))) -> 0 | T23: =IF((SUM(T$7,T$22)-(SUM(S$7,S$22))<0),0)+IF((SUM(T$7,T$22)-(SUM(S$7,S$22))>0),(SUM(T$7,T$22)-(SUM(S$7,S$22)))) -> 0 | U23: =IF((SUM(U$7,U$22)-(SUM(V$7,V$22))<0),0)+IF((SUM(U$7,U$22)-(SUM(V$7,V$22))>0),(SUM(U$7,U$22)-(SUM(V$7,V$22)))) -> 0 | V23: =IF((SUM(V$7,V$22)-(SUM(U$7,U$22))<0),0)+IF((SUM(V$7,V$22)-(SUM(U$7,U$22))>0),(SUM(V$7,V$22)-(SUM(U$7,U$22)))) -> 0 | W23: =IF((SUM(W$7,W$22)-(SUM(X$7,X$22))<0),0)+IF((SUM(W$7,W$22)-(SUM(X$7,X$22))>0),(SUM(W$7,W$22)-(SUM(X$7,X$22)))) -> 0 | X23: =IF((SUM(X$7,X$22)-(SUM(W$7,W$22))<0),0)+IF((SUM(X$7,X$22)-(SUM(W$7,W$22))>0),(SUM(X$7,X$22)-(SUM(W$7,W$22)))) -> 0 | Y23: =IF((SUM(Y$7,Y$22)-(SUM(Z$7,Z$22))<0),0)+IF((SUM(Y$7,Y$22)-(SUM(Z$7,Z$22))>0),(SUM(Y$7,Y$22)-(SUM(Z$7,Z$22)))) -> 0 | Z23: =IF((SUM(Z$7,Z$22)-(SUM(Y$7,Y$22))<0),0)+IF((SUM(Z$7,Z$22)-(SUM(Y$7,Y$22))>0),(SUM(Z$7,Z$22)-(SUM(Y$7,Y$22)))) -> 0 | AA23: =IF((SUM(AA$7,AA$22)-(SUM(AB$7,AB$22))<0),0)+IF((SUM(AA$7,AA$22)-(SUM(AB$7,AB$22))>0),(SUM(AA$7,AA$22)-(SUM(AB$7,AB$22)))) -> 0 | AB23: =IF((SUM(AB$7,AB$22)-(SUM(AA$7,AA$22))<0),0)+IF((SUM(AB$7,AB$22)-(SUM(AA$7,AA$22))>0),(SUM(AB$7,AB$22)-(SUM(AA$7,AA$22)))) -> 1266.12 | AC23: =AC7+AC22 -> 1467.1 | AD23: =AD7+AD22 -> 2.69 | AE23: =AE7+AE22 -> 0 | AF23: =IF((SUM(AF$7,AF$22)-(SUM(AG$7,AG$22))<0),0)+IF((SUM(AF$7,AF$22)-(SUM(AG$7,AG$22))>0),(SUM(AF$7,AF$22)-(SUM(AG$7,AG$22)))) -> 185 | AG23: =IF((SUM(AG$7,AG$22)-(SUM(AF$7,AF$22))<0),0)+IF((SUM(AG$7,AG$22)-(SUM(AF$7,AF$22))>0),(SUM(AG$7,AG$22)-(SUM(AF$7,AF$22)))) -> 0 | AH23: =IF((SUM(AH$7,AH$22)-(SUM(AI$7,AI$22))<0),0)+IF((SUM(AH$7,AH$22)-(SUM(AI$7,AI$22))>0),(SUM(AH$7,AH$22)-(SUM(AI$7,AI$22)))) -> 1723.4 | AI23: =IF((SUM(AI$7,AI$22)-(SUM(AH$7,AH$22))<0),0)+IF((SUM(AI$7,AI$22)-(SUM(AH$7,AH$22))>0),(SUM(AI$7,AI$22)-(SUM(AH$7,AH$22)))) -> 0 | AJ23: =IF((SUM(AJ$7,AJ$22)-(SUM(AK$7,AK$22))<0),0)+IF((SUM(AJ$7,AJ$22)-(SUM(AK$7,AK$22))>0),(SUM(AJ$7,AJ$22)-(SUM(AK$7,AK$22)))) -> 0 | AK23: =IF((SUM(AK$7,AK$22)-(SUM(AJ$7,AJ$22))<0),0)+IF((SUM(AK$7,AK$22)-(SUM(AJ$7,AJ$22))>0),(SUM(AK$7,AK$22)-(SUM(AJ$7,AJ$22)))) -> 0 | AL23: =AL7+AL22 -> 185 | AM23: =AM7+AM22 -> 0 | AN23: =AN7+AN22 -> 0 | AO23: =AO7+AO22 -> 0 | AP23: =AP7+AP22 -> 0 | AQ23: =AQ7+AQ22 -> 1520 | AR23: =AR7+AR22 -> 0 | AS23: =AS7+AS22 -> 0 | ... AV23: =AV7+AV22 -> 58.4 | AW23: =IF((SUM(AW$7,AW$22)-(SUM(AX$7,AX$22))<0),0)+IF((SUM(AW$7,AW$22)-(SUM(AX$7,AX$22))>0),(SUM(AW$7,AW$22)-(SUM(AX$7,AX$22)))) -> 0 | AX23: =IF((SUM(AX$7,AX$22)-(SUM(AW$7,AW$22))<0),0)+IF((SUM(AX$7,AX$22)-(SUM(AW$7,AW$22))>0),(SUM(AX$7,AX$22)-(SUM(AW$7,AW$22)))) -> 0 | AY23: =IF((SUM(AY$7,AY$22)-(SUM(AZ$7,AZ$22))<0),0)+IF((SUM(AY$7,AY$22)-(SUM(AZ$7,AZ$22))>0),(SUM(AY$7,AY$22)-(SUM(AZ$7,AZ$22)))) -> 0 | AZ23: =IF((SUM(AZ$7,AZ$22)-(SUM(AY$7,AY$22))<0),0)+IF((SUM(AZ$7,AZ$22)-(SUM(AY$7,AY$22))>0),(SUM(AZ$7,AZ$22)-(SUM(AY$7,AY$22)))) -> 0 | BA23: =BA7+BA22 -> 0 | BB23: =BB7+BB22 -> 0 | BC23: =BC7+BC22 -> 0 | BD23: =BD7+BD22 -> 0 | BE23: =SUM(E23,G23,I23,K23,M23,O23,Q23,S23,U23,W23,Y23,AA23,AJ23,AW23,AY23) -> 1266.12 | BF23: =SUM(F23,H23,J23,L23,N23,P23,R23,T23,V23,X23,Z23,AB23,AK23,AX23,AZ23) -> 1266.12 | BG23: =BG7-BG22 -> 0 | BH23: =BH7-BH22 -> 0
BF25: =BF23-BE23 -> 0

Sheet май
B1: за | C1: май | D1: 2021 года
A3: № п/п | B3: Число, месяц | C3: Краткое содержание операции или номер документа | D3: Сумма | E3: Счет 01 | G3: Счет 02 | I3: Счет 10 | K3: Счет 50 | M3: Счет 51 | O3: Счет 55 | Q3: Счет 60 | S3: Счет 68 | U3: Счет 71 | W3: Счет 76 | Y3: Счет 79 | AA3: Счет 86/01 | AC3: Расшифровка счета 86/01 | AF3: счет 86/01 Расшифровка счета | AJ3: Счет 26/01 | AL3: Расшифровка счета 26/01 | AW3: Счет 86/02 | AY3: Счет 26/02 | BA3: Расшифровка счета 26/02 | BE3: Контрольные суммы | BG3: Забалансовый счет 006
E4: Основные средства | G4: Амортизация осн.средств | I4: Материалы | K4: Касса | M4: Текущий расчетный счет | O4: Специальные счета в банках (депозитный) | Q4: Расчеты с поставщиками и подрядчиками | S4: Расчеты по налогам и сборам | U4: Расчеты с подотчетными лицами | W4: Расчеты с разными дебиторами и кредиторами | Y4: Внутрихозяйственные расчеты | AA4: Общехозяйственные доходы | AC4: Отчисления от членских профвзносов | AD4: % банка | AE4: % банка по депозиту | AF4: фонд помощи | AH4: другие статьи не включенные в фонд | AJ4: Общехозяйственные расходы | AL4: Материальная помощь членам профсоюза | AM4: Детское оздоровление | AN4: Благотворительная помощь | AO4: Обучение профсоюзного актива | AP4: Туристическо-экскурсионная деятельность, в т.ч. Услуги ТЭУП "Беларустурист" | AQ4: Культурно-массовая работа | AR4: Спортивная и культурно-массовая работа | AS4: Информационная работа, в т.ч.подписка на "Беларускi час" | AT4: Вознаграждение профсоюзному активу за выполнение общественной нагрузки | AU4: Расходы на целевые мероприятия (в районе, городе, области) | AV4: Прочие расходы, в т.ч.комиссионное вознаграждение банку | AW4: Общехозяйственные доходы (Целевые поступления по коллективным договорам) | AY4: Общехозяйственные расходы | BA4: Туристическо-экскурсионная деятельность, в т.ч. Услуги ТЭУП "Беларустурист" | BB4: =апрель!BB4 -> матпомощь (страховка) | BC4: Культурно-массовая работа | BD4: Спортивная работа
E6: дебет | F6: кредит | G6: дебет | H6: кредит | I6: дебет | J6: кредит | K6: дебет | L6: кредит | M6: дебет | N6: кредит | O6: дебет | P6: кредит | Q6: дебет | R6: кредит | S6: дебет | T6: кредит | U6: дебет | V6: кредит | W6: дебет | X6: кредит | Y6: дебет | Z6: кредит | AA6: дебет | AB6: кредит | AF6: дебет | AG6: кредит | AH6: дебет | AI6: кредит | AJ6: дебет | AK6: кредит | AL6: фонд помощи | AO6: другие статьи не включенные в фонд | AW6: дебет | AX6: кредит | AY6: дебет | AZ6: кредит | BE6: дебет | BF6: кредит | BG6: кол-во | BH6: сумма
C7: Сальдо на 01.05.2021г. | E7: =апрель!E23 -> 0 | F7: =апрель!F23 -> 0 | G7: =апрель!G23 -> 0 | H7: =апрель!H23 -> 0 | I7: =апрель!I23 -> 0 | J7: =апрель!J23 -> 0 | K7: =апрель!K23 -> 0 | L7: =апрель!L23 -> 0 | ... BH7: =апрель!BH23 -> 0
A8: 1 | B8: 44321 | C8: Материальная помощь | D8: 250 | M8: 250 | Z8: 250 | AA8: =SUM(AF8,AH8) -> 0 | AB8: =SUM(AC8:AE8) -> 0 | AG8: =AC8*$AF$5 -> 0 | AI8: =AC8*$AH$5 -> 0 | AJ8: =SUM(AL8:AV8) -> 0 | AY8: =SUM(BA8:BD8) -> 0 | BE8: =SUM(E8,G8,I8,K8,M8,O8,Q8,S8,U8,W8,Y8,AA8,AJ8,AW8,AY8) -> 250 | BF8: =SUM(F8,H8,J8,L8,N8,P8,R8,T8,V8,X8,Z8,AB8,AK8,AX8,AZ8) -> 250
A9: 2 | B9: 44322 | C9: Начислены % банка | D9: 11.64 | N9: 11.64 | AA9: =SUM(AF9,AH9) -> 0 | AB9: =SUM(AC9:AE9) -> 0 | AG9: =AC9*$AF$5 -> 0 | AI9: =AC9*$AH$5 -> 0 | AJ9: =SUM(AL9:AV9) -> 11.64 | AV9: 11.64 | AY9: =SUM(BA9:BD9) -> 0 | BE9: =SUM(E9,G9,I9,K9,M9,O9,Q9,S9,U9,W9,Y9,AA9,AJ9,AW9,AY9) -> 11.64 | BF9: =SUM(F9,H9,J9,L9,N9,P9,R9,T9,V9,X9,Z9,AB9,AK9,AX9,AZ9) -> 11.64
A10: 3 | B10: 44322 | C10: Начислены % банка | D10: 11.7 | N10: 11.7 | AA10: =SUM(AF10,AH10) -> 0 | AB10: =SUM(AC10:AE10) -> 0 | AG10: =AC10*$AF$5 -> 0 | AI10: =AC10*$AH$5 -> 0 | AJ10: =SUM(AL10:AV10) -> 11.7 | AV10: 11.7 | AY10: =SUM(BA10:BD10) -> 0 | BE10: =SUM(E10,G10,I10,K10,M10,O10,Q10,S10,U10,W10,Y10,AA10,AJ10,AW10,AY10) -> 11.7 | BF10: =SUM(F10,H10,J10,L10,N10,P10,R10,T10,V10,X10,Z10,AB10,AK10,AX10,AZ10) -> 11.7
A11: 4 | B11: 44322 | C11: Материальная помощь | D11: 582 | N11: 582 | Y11: 250 | AA11: =SUM(AF11,AH11) -> 0 | AB11: =SUM(AC11:AE11) -> 0 | AG11: =AC11*$AF$5 -> 0 | AI11: =AC11*$AH$5 -> 0 | AJ11: =SUM(AL11:AV11) -> 332 | AL11: 332 | AY11: =SUM(BA11:BD11) -> 0 | BE11: =SUM(E11,G11,I11,K11,M11,O11,Q11,S11,U11,W11,Y11,AA11,AJ11,AW11,AY11) -> 582 | BF11: =SUM(F11,H11,J11,L11,N11,P11,R11,T11,V11,X11,Z11,AB11,AK11,AX11,AZ11) -> 582
A12: 5 | B12: 44334 | C12: Поступили членские взносы от нанимателя | D12: 386.31 | M12: 386.31 | AA12: =SUM(AF12,AH12) -> 0 | AB12: =SUM(AC12:AE12) -> 386.31 | AC12: 386.31 | AG12: =AC12*$AF$5 -> 0 | AI12: =AC12*$AH$5 -> 0 | AJ12: =SUM(AL12:AV12) -> 0 | AY12: =SUM(BA12:BD12) -> 0 | BE12: =SUM(E12,G12,I12,K12,M12,O12,Q12,S12,U12,W12,Y12,AA12,AJ12,AW12,AY12) -> 386.31 | BF12: =SUM(F12,H12,J12,L12,N12,P12,R12,T12,V12,X12,Z12,AB12,AK12,AX12,AZ12) -> 386.31
